Workbook

Sheet Sheet1
C1: ME-RS | D1: RS-ME
B2: 1 | C2: ='01.07.'!$AC$19 -> 0 | D2: ='01.07.'!$AC$26 -> 0
B3: 2 | C3: ='02.07.'!$AC$19 -> 0 | D3: ='02.07.'!$AC$26 -> 0
B4: 3 | C4: ='03.07.'!$AC$19 -> 0 | D4: ='03.07.'!$AC$26 -> 0
B5: 4 | C5: ='04.07.'!$AC$19 -> 0 | D5: ='04.07.'!$AC$26 -> 0
B6: 5 | C6: ='05.07.'!$AC$19 -> 0 | D6: ='05.07.'!$AC$26 -> 0
B7: 6 | C7: ='06.07.'!$AC$19 -> 0 | D7: ='06.07.'!$AC$26 -> 0
B8: 7 | C8: ='07.07.'!$AC$19 -> 0 | D8: ='07.07.'!$AC$26 -> 0
B9: 8 | C9: ='08.07.'!$AC$19 -> 0 | D9: ='08.07.'!$AC$26 -> 0
B10: 9 | C10: ='09.07.'!$AC$19 -> 0 | D10: ='09.07.'!$AC$26 -> 0
B11: 10 | C11: ='10.07.'!$AC$19 -> 0 | D11: ='10.07.'!$AC$26 -> 0
B12: 11 | C12: ='11.07.'!$AC$19 -> 0 | D12: ='11.07.'!$AC$26 -> 0
B13: 12 | C13: ='12.07.'!$AC$19 -> 0 | D13: ='12.07.'!$AC$26 -> 0
B14: 13 | C14: ='13.07.'!$AC$19 -> 0 | D14: ='13.07.'!$AC$26 -> 0
B15: 14 | C15: ='14.07.'!$AC$19 -> 0 | D15: ='14.07.'!$AC$26 -> 0
B16: 15 | C16: ='15.07.'!$AC$19 -> 0 | D16: ='15.07.'!$AC$26 -> 0
B17: 16 | C17: ='16.07.'!$AC$19 -> 0 | D17: ='16.07.'!$AC$26 -> 0
B18: 17 | C18: ='17.07.'!$AC$19 -> 0 | D18: ='17.07.'!$AC$26 -> 0
B19: 18 | C19: ='18.07.'!$AC$19 -> 0 | D19: ='18.07.'!$AC$26 -> 0
B20: 19 | C20: ='19.07.'!$AC$19 -> 0 | D20: ='19.07.'!$AC$26 -> 0
B21: 20 | C21: ='20.07.'!$AC$19 -> 0 | D21: ='20.07.'!$AC$26 -> 0
B22: 21 | C22: ='21.07.'!$AC$19 -> 0 | D22: ='21.07.'!$AC$26 -> 0
B23: 22 | C23: ='22.07.'!$AC$19 -> 0 | D23: ='22.07.'!$AC$26 -> 0
B24: 23 | C24: ='23.07.'!$AC$19 -> 0 | D24: ='23.07.'!$AC$26 -> 0
B25: 24 | C25: ='24.07.'!$AC$19 -> 0 | D25: ='24.07.'!$AC$26 -> 0
B26: 25 | C26: ='[1]25.07'!$AC$19 -> #REF! | D26: ='[1]25.07'!$AC$26 -> #REF!
B27: 26 | C27: ='26.07.'!$AC$19 -> 0 | D27: ='26.07.'!$AC$26 -> 0
B28: 27 | C28: ='27.07.'!$AC$19 -> 0 | D28: ='27.07.'!$AC$26 -> 0
B29: 28 | C29: ='28.07.'!$AC$19 -> 0 | D29: ='28.07.'!$AC$26 -> 0
B30: 29 | C30: ='29.07.'!$AC$19 -> 0 | D30: ='29.07.'!$AC$26 -> 0
B31: 30 | C31: ='30.07.'!$AC$19 -> 0 | D31: ='30.07.'!$AC$26 -> 0
B32: 31 | C32: ='31.07.'!$AC$19 -> 0 | D32: ='31.07.'!$AC$26 -> 0

Sheet 01.07.
A10: Aukcija za dan | C10: 45839
B13: smjer | C13: ME->RS
D14: sat | E14: 1 | F14: 2 | G14: 3 | H14: 4 | I14: 5 | J14: 6 | K14: 7 | L14: 8 | M14: 9 | N14: 10 | O14: 11 | P14: 12 | Q14: 13 | R14: 14 | S14: 15 | T14: 16 | U14: 17 | V14: 18 | W14: 19 | X14: 20 | Y14: 21 | Z14: 22 | AA14: 23 | AB14: 24
C15: ATC | E15: 306 | F15: 306 | G15: 320 | H15: 320 | I15: 320 | J15: 320 | K15: 291 | L15: 289 | M15: 323 | N15: 323 | O15: 322 | P15: 322 | Q15: 322 | R15: 322 | S15: 322 | T15: 322 | U15: 326 | V15: 301 | W15: 148 | X15: 82 | Y15: 82 | Z15: 96 | AA15: 219 | AB15: 296
C16: zahtijevani kap. | E16: 373 | F16: 388 | G16: 401 | H16: 393 | I16: 388 | J16: 388 | K16: 401 | L16: 388 | M16: 388 | N16: 388 | O16: 381 | P16: 382 | Q16: 383 | R16: 383 | S16: 382 | T16: 382 | U16: 373 | V16: 385 | W16: 385 | X16: 420 | Y16: 420 | Z16: 420 | AA16: 440 | AB16: 373
C17: dodijeljeni kap. | E17: 306 | F17: 306 | G17: 320 | H17: 320 | I17: 320 | J17: 320 | K17: 291 | L17: 289 | M17: 323 | N17: 323 | O17: 322 | P17: 322 | Q17: 322 | R17: 322 | S17: 322 | T17: 322 | U17: 326 | V17: 301 | W17: 148 | X17: 82 | Y17: 82 | Z17: 96 | AA17: 219 | AB17: 296
C18: cijena [€/MW] | E18: 0.06 | F18: 0.06 | G18: 0.06 | H18: 0.06 | I18: 0.06 | J18: 0.06 | K18: 0.06 | L18: 0.11 | M18: 0.06 | N18: 0.06 | O18: 0.04 | P18: 0.06 | Q18: 0.06 | R18: 0.06 | S18: 0.06 | T18: 0.06 | U18: 0.04 | V18: 0.06 | W18: 2.2 | X18: 25.99 | Y18: 56 | Z18: 30.01 | AA18: 1.62 | AB18: 0.06
B20: smjer | C20: RS->ME
D21: sat | E21: 1 | F21: 2 | G21: 3 | H21: 4 | I21: 5 | J21: 6 | K21: 7 | L21: 8 | M21: 9 | N21: 10 | O21: 11 | P21: 12 | Q21: 13 | R21: 14 | S21: 15 | T21: 16 | U21: 17 | V21: 18 | W21: 19 | X21: 20 | Y21: 21 | Z21: 22 | AA21: 23 | AB21: 24
C22: ATC | E22: 94 | F22: 94 | G22: 80 | H22: 80 | I22: 80 | J22: 80 | K22: 109 | L22: 111 | M22: 77 | N22: 77 | O22: 78 | P22: 78 | Q22: 78 | R22: 78 | S22: 78 | T22: 78 | U22: 74 | V22: 99 | W22: 252 | X22: 318 | Y22: 318 | Z22: 304 | AA22: 181 | AB22: 104
C23: zahtijevani kap. | E23: 493 | F23: 476 | G23: 476 | H23: 476 | I23: 476 | J23: 451 | K23: 423 | L23: 400 | M23: 490 | N23: 500 | O23: 520 | P23: 533 | Q23: 542 | R23: 555 | S23: 554 | T23: 555 | U23: 533 | V23: 484 | W23: 469 | X23: 439 | Y23: 438 | Z23: 438 | AA23: 456 | AB23: 454
C24: dodijeljeni kap. | E24: 94 | F24: 94 | G24: 80 | H24: 80 | I24: 80 | J24: 80 | K24: 109 | L24: 111 | M24: 77 | N24: 77 | O24: 78 | P24: 78 | Q24: 78 | R24: 78 | S24: 78 | T24: 78 | U24: 74 | V24: 99 | W24: 252 | X24: 318 | Y24: 318 | Z24: 304 | AA24: 181 | AB24: 104
C25: cijena [€/MW] | E25: 6.59 | F25: 9.11 | G25: 10.2 | H25: 8.39 | I25: 9.42 | J25: 6.12 | K25: 3.91 | L25: 4.69 | M25: 15.2 | N25: 42.08 | O25: 54.82 | P25: 55.55 | Q25: 55.55 | R25: 55.55 | S25: 55.55 | T25: 42.78 | U25: 29.9 | V25: 5.8 | W25: 0.2 | X25: 0.11 | Y25: 0.11 | Z25: 0.11 | AA25: 0.63 | AB25: 1.25

Sheet 02.07.
A10: Aukcija za dan | C10: 45840
B13: smjer | C13: ME->RS
D14: sat | E14: 1 | F14: 2 | G14: 3 | H14: 4 | I14: 5 | J14: 6 | K14: 7 | L14: 8 | M14: 9 | N14: 10 | O14: 11 | P14: 12 | Q14: 13 | R14: 14 | S14: 15 | T14: 16 | U14: 17 | V14: 18 | W14: 19 | X14: 20 | Y14: 21 | Z14: 22 | AA14: 23 | AB14: 24
C15: ATC | E15: 325 | F15: 325 | G15: 325 | H15: 325 | I15: 325 | J15: 322 | K15: 309 | L15: 306 | M15: 309 | N15: 330 | O15: 330 | P15: 330 | Q15: 330 | R15: 330 | S15: 330 | T15: 330 | U15: 322 | V15: 323 | W15: 172 | X15: 82 | Y15: 82 | Z15: 82 | AA15: 233 | AB15: 303
C16: zahtijevani kap. | E16: 373 | F16: 373 | G16: 373 | H16: 373 | I16: 373 | J16: 373 | K16: 373 | L16: 373 | M16: 373 | N16: 373 | O16: 374 | P16: 375 | Q16: 376 | R16: 376 | S16: 376 | T16: 373 | U16: 373 | V16: 373 | W16: 385 | X16: 420 | Y16: 420 | Z16: 420 | AA16: 450 | AB16: 385
C17: dodijeljeni kap. | E17: 325 | F17: 325 | G17: 325 | H17: 325 | I17: 325 | J17: 322 | K17: 309 | L17: 306 | M17: 309 | N17: 330 | O17: 330 | P17: 330 | Q17: 330 | R17: 330 | S17: 330 | T17: 330 | U17: 322 | V17: 323 | W17: 172 | X17: 82 | Y17: 82 | Z17: 82 | AA17: 233 | AB17: 303
C18: cijena [€/MW] | E18: 0.04 | F18: 0.04 | G18: 0.04 | H18: 0.04 | I18: 0.04 | J18: 0.04 | K18: 0.06 | L18: 0.06 | M18: 0.06 | N18: 0.04 | O18: 0.04 | P18: 0.04 | Q18: 0.04 | R18: 0.04 | S18: 0.04 | T18: 0.04 | U18: 0.04 | V18: 0.04 | W18: 1.68 | X18: 40.01 | Y18: 46.69 | Z18: 46.51 | AA18: 1.31 | AB18: 0.06
B20: smjer | C20: RS->ME
D21: sat | E21: 1 | F21: 2 | G21: 3 | H21: 4 | I21: 5 | J21: 6 | K21: 7 | L21: 8 | M21: 9 | N21: 10 | O21: 11 | P21: 12 | Q21: 13 | R21: 14 | S21: 15 | T21: 16 | U21: 17 | V21: 18 | W21: 19 | X21: 20 | Y21: 21 | Z21: 22 | AA21: 23 | AB21: 24
C22: ATC | E22: 75 | F22: 75 | G22: 75 | H22: 75 | I22: 75 | J22: 78 | K22: 91 | L22: 94 | M22: 91 | N22: 70 | O22: 70 | P22: 70 | Q22: 70 | R22: 70 | S22: 70 | T22: 70 | U22: 78 | V22: 77 | W22: 228 | X22: 318 | Y22: 318 | Z22: 318 | AA22: 167 | AB22: 97
C23: zahtijevani kap. | E23: 443 | F23: 440 | G23: 440 | H23: 439 | I23: 438 | J23: 414 | K23: 386 | L23: 391 | M23: 470 | N23: 480 | O23: 469 | P23: 479 | Q23: 499 | R23: 499 | S23: 499 | T23: 511 | U23: 515 | V23: 481 | W23: 527 | X23: 525 | Y23: 514 | Z23: 513 | AA23: 503 | AB23: 493
C24: dodijeljeni kap. | E24: 75 | F24: 75 | G24: 75 | H24: 75 | I24: 75 | J24: 78 | K24: 91 | L24: 94 | M24: 91 | N24: 70 | O24: 70 | P24: 70 | Q24: 70 | R24: 70 | S24: 70 | T24: 70 | U24: 78 | V24: 77 | W24: 228 | X24: 318 | Y24: 318 | Z24: 318 | AA24: 167 | AB24: 97
C25: cijena [€/MW] | E25: 6.9 | F25: 10.97 | G25: 14.27 | H25: 12.68 | I25: 14.04 | J25: 12.26 | K25: 5.3 | L25: 6.99 | M25: 13.5 | N25: 48.41 | O25: 55.55 | P25: 55.55 | Q25: 60.01 | R25: 60.01 | S25: 60.01 | T25: 60.01 | U25: 39.99 | V25: 11.97 | W25: 0.66 | X25: 0.2 | Y25: 0.2 | Z25: 0.2 | AA25: 1.22 | AB25: 4.55

Sheet 03.07.
A10: Aukcija za dan | C10: 45841
B13: smjer | C13: ME->RS
D14: sat | E14: 1 | F14: 2 | G14: 3 | H14: 4 | I14: 5 | J14: 6 | K14: 7 | L14: 8 | M14: 9 | N14: 10 | O14: 11 | P14: 12 | Q14: 13 | R14: 14 | S14: 15 | T14: 16 | U14: 17 | V14: 18 | W14: 19 | X14: 20 | Y14: 21 | Z14: 22 | AA14: 23 | AB14: 24
C15: ATC | E15: 327 | F15: 327 | G15: 317 | H15: 317 | I15: 317 | J15: 314 | K15: 309 | L15: 313 | M15: 316 | N15: 316 | O15: 315 | P15: 315 | Q15: 315 | R15: 315 | S15: 315 | T15: 315 | U15: 322 | V15: 294 | W15: 92 | X15: 82 | Y15: 82 | Z15: 82 | AA15: 139 | AB15: 192
C16: zahtijevani kap. | E16: 373 | F16: 373 | G16: 373 | H16: 373 | I16: 373 | J16: 373 | K16: 373 | L16: 373 | M16: 373 | N16: 373 | O16: 375 | P16: 375 | Q16: 376 | R16: 376 | S16: 375 | T16: 373 | U16: 373 | V16: 373 | W16: 426 | X16: 426 | Y16: 426 | Z16: 426 | AA16: 416 | AB16: 381
C17: dodijeljeni kap. | E17: 327 | F17: 327 | G17: 317 | H17: 317 | I17: 317 | J17: 314 | K17: 309 | L17: 313 | M17: 316 | N17: 316 | O17: 315 | P17: 315 | Q17: 315 | R17: 315 | S17: 315 | T17: 315 | U17: 322 | V17: 294 | W17: 92 | X17: 82 | Y17: 82 | Z17: 82 | AA17: 139 | AB17: 192
C18: cijena [€/MW] | E18: 0.05 | F18: 0.05 | G18: 0.06 | H18: 0.06 | I18: 0.06 | J18: 0.06 | K18: 0.06 | L18: 0.06 | M18: 0.06 | N18: 0.06 | O18: 0.06 | P18: 0.06 | Q18: 0.06 | R18: 0.06 | S18: 0.06 | T18: 0.06 | U18: 0.06 | V18: 0.06 | W18: 25.55 | X18: 48.94 | Y18: 55.01 | Z18: 37.21 | AA18: 2.13 | AB18: 0.24
B20: smjer | C20: RS->ME
D21: sat | E21: 1 | F21: 2 | G21: 3 | H21: 4 | I21: 5 | J21: 6 | K21: 7 | L21: 8 | M21: 9 | N21: 10 | O21: 11 | P21: 12 | Q21: 13 | R21: 14 | S21: 15 | T21: 16 | U21: 17 | V21: 18 | W21: 19 | X21: 20 | Y21: 21 | Z21: 22 | AA21: 23 | AB21: 24
C22: ATC | E22: 73 | F22: 73 | G22: 83 | H22: 83 | I22: 83 | J22: 86 | K22: 91 | L22: 87 | M22: 84 | N22: 84 | O22: 85 | P22: 85 | Q22: 85 | R22: 85 | S22: 85 | T22: 85 | U22: 78 | V22: 106 | W22: 308 | X22: 318 | Y22: 318 | Z22: 318 | AA22: 261 | AB22: 208
C23: zahtijevani kap. | E23: 508 | F23: 488 | G23: 487 | H23: 486 | I23: 486 | J23: 486 | K23: 479 | L23: 481 | M23: 503 | N23: 512 | O23: 499 | P23: 514 | Q23: 529 | R23: 529 | S23: 530 | T23: 543 | U23: 541 | V23: 536 | W23: 498 | X23: 476 | Y23: 467 | Z23: 464 | AA23: 452 | AB23: 467
C24: dodijeljeni kap. | E24: 73 | F24: 73 | G24: 83 | H24: 83 | I24: 83 | J24: 86 | K24: 91 | L24: 87 | M24: 84 | N24: 84 | O24: 85 | P24: 85 | Q24: 85 | R24: 85 | S24: 85 | T24: 85 | U24: 78 | V24: 106 | W24: 308 | X24: 318 | Y24: 318 | Z24: 318 | AA24: 261 | AB24: 208
C25: cijena [€/MW] | E25: 20 | F25: 20 | G25: 19.8 | H25: 20 | I25: 20 | J25: 16.25 | K25: 13.61 | L25: 12.88 | M25: 20 | N25: 52.02 | O25: 61.78 | P25: 56.86 | Q25: 57.43 | R25: 61.12 | S25: 61 | T25: 54.33 | U25: 39.68 | V25: 13.98 | W25: 0.18 | X25: 0.13 | Y25: 0.13 | Z25: 0.13 | AA25: 0.18 | AB25: 1.01

Sheet 04.07.
A10: Aukcija za dan | C10: 45842
B13: smjer | C13: ME->RS
D14: sat | E14: 1 | F14: 2 | G14: 3 | H14: 4 | I14: 5 | J14: 6 | K14: 7 | L14: 8 | M14: 9 | N14: 10 | O14: 11 | P14: 12 | Q14: 13 | R14: 14 | S14: 15 | T14: 16 | U14: 17 | V14: 18 | W14: 19 | X14: 20 | Y14: 21 | Z14: 22 | AA14: 23 | AB14: 24
C15: ATC | E15: 332 | F15: 334 | G15: 334 | H15: 324 | I15: 324 | J15: 324 | K15: 319 | L15: 330 | M15: 330 | N15: 330 | O15: 329 | P15: 329 | Q15: 329 | R15: 329 | S15: 329 | T15: 329 | U15: 329 | V15: 292 | W15: 177 | X15: 137 | Y15: 137 | Z15: 137 | AA15: 204 | AB15: 275
C16: zahtijevani kap. | E16: 321 | F16: 321 | G16: 321 | H16: 321 | I16: 321 | J16: 321 | K16: 381 | L16: 321 | M16: 321 | N16: 321 | O16: 325 | P16: 331 | Q16: 331 | R16: 331 | S16: 335 | T16: 331 | U16: 331 | V16: 372 | W16: 447 | X16: 447 | Y16: 447 | Z16: 402 | AA16: 382 | AB16: 357
C17: dodijeljeni kap. | E17: 321 | F17: 321 | G17: 321 | H17: 321 | I17: 321 | J17: 321 | K17: 319 | L17: 321 | M17: 321 | N17: 321 | O17: 325 | P17: 329 | Q17: 329 | R17: 329 | S17: 329 | T17: 329 | U17: 329 | V17: 292 | W17: 177 | X17: 137 | Y17: 137 | Z17: 137 | AA17: 204 | AB17: 275
C18: cijena [€/MW] | E18: 0 | F18: 0 | G18: 0 | H18: 0 | I18: 0 | J18: 0 | K18: 0.07 | L18: 0 | M18: 0 | N18: 0 | O18: 0 | P18: 0.03 | Q18: 0.03 | R18: 0.03 | S18: 0.03 | T18: 0.03 | U18: 0.03 | V18: 0.13 | W18: 5.16 | X18: 8.4 | Y18: 12 | Z18: 2.18 | AA18: 0.35 | AB18: 0.11
B20: smjer | C20: RS->ME
D21: sat | E21: 1 | F21: 2 | G21: 3 | H21: 4 | I21: 5 | J21: 6 | K21: 7 | L21: 8 | M21: 9 | N21: 10 | O21: 11 | P21: 12 | Q21: 13 | R21: 14 | S21: 15 | T21: 16 | U21: 17 | V21: 18 | W21: 19 | X21: 20 | Y21: 21 | Z21: 22 | AA21: 23 | AB21: 24
C22: ATC | E22: 68 | F22: 66 | G22: 66 | H22: 76 | I22: 76 | J22: 76 | K22: 81 | L22: 70 | M22: 70 | N22: 70 | O22: 71 | P22: 71 | Q22: 71 | R22: 71 | S22: 71 | T22: 71 | U22: 71 | V22: 108 | W22: 223 | X22: 263 | Y22: 263 | Z22: 263 | AA22: 196 | AB22: 125
C23: zahtijevani kap. | E23: 524 | F23: 502 | G23: 516 | H23: 515 | I23: 515 | J23: 545 | K23: 488 | L23: 495 | M23: 546 | N23: 547 | O23: 540 | P23: 555 | Q23: 612 | R23: 615 | S23: 511 | T23: 522 | U23: 533 | V23: 439 | W23: 470 | X23: 470 | Y23: 466 | Z23: 463 | AA23: 462 | AB23: 426
C24: dodijeljeni kap. | E24: 68 | F24: 66 | G24: 66 | H24: 76 | I24: 76 | J24: 76 | K24: 81 | L24: 70 | M24: 70 | N24: 70 | O24: 71 | P24: 71 | Q24: 71 | R24: 71 | S24: 71 | T24: 71 | U24: 71 | V24: 108 | W24: 223 | X24: 263 | Y24: 263 | Z24: 263 | AA24: 196 | AB24: 125
C25: cijena [€/MW] | E25: 21 | F25: 19.99 | G25: 19.99 | H25: 19.99 | I25: 19.99 | J25: 19.99 | K25: 9 | L25: 16 | M25: 23 | N25: 69.99 | O25: 65.55 | P25: 71.07 | Q25: 70.67 | R25: 68.17 | S25: 66.53 | T25: 54.33 | U25: 60.01 | V25: 3.3 | W25: 0.98 | X25: 0.55 | Y25: 0.55 | Z25: 0.55 | AA25: 1.47 | AB25: 4

Sheet 05.07.
A10: Aukcija za dan | C10: 45843
B13: smjer | C13: ME->RS
D14: sat | E14: 1 | F14: 2 | G14: 3 | H14: 4 | I14: 5 | J14: 6 | K14: 7 | L14: 8 | M14: 9 | N14: 10 | O14: 11 | P14: 12 | Q14: 13 | R14: 14 | S14: 15 | T14: 16 | U14: 17 | V14: 18 | W14: 19 | X14: 20 | Y14: 21 | Z14: 22 | AA14: 23 | AB14: 24
C15: ATC | E15: 335 | F15: 325 | G15: 325 | H15: 325 | I15: 325 | J15: 325 | K15: 320 | L15: 319 | M15: 329 | N15: 329 | O15: 328 | P15: 328 | Q15: 328 | R15: 328 | S15: 328 | T15: 328 | U15: 328 | V15: 305 | W15: 186 | X15: 156 | Y15: 156 | Z15: 156 | AA15: 216 | AB15: 303
C16: zahtijevani kap. | E16: 356 | F16: 356 | G16: 356 | H16: 356 | I16: 356 | J16: 356 | K16: 356 | L16: 356 | M16: 356 | N16: 356 | O16: 356 | P16: 361 | Q16: 361 | R16: 361 | S16: 361 | T16: 361 | U16: 361 | V16: 372 | W16: 406 | X16: 406 | Y16: 406 | Z16: 406 | AA16: 406 | AB16: 386
C17: dodijeljeni kap. | E17: 335 | F17: 325 | G17: 325 | H17: 325 | I17: 325 | J17: 325 | K17: 320 | L17: 319 | M17: 329 | N17: 329 | O17: 328 | P17: 328 | Q17: 328 | R17: 328 | S17: 328 | T17: 328 | U17: 328 | V17: 305 | W17: 186 | X17: 156 | Y17: 156 | Z17: 156 | AA17: 216 | AB17: 303
C18: cijena [€/MW] | E18: 0.02 | F18: 0.02 | G18: 0.02 | H18: 0.02 | I18: 0.02 | J18: 0.02 | K18: 0.03 | L18: 0.03 | M18: 0.02 | N18: 0.02 | O18: 0.02 | P18: 0.03 | Q18: 0.03 | R18: 0.03 | S18: 0.03 | T18: 0.03 | U18: 0.03 | V18: 0.04 | W18: 2.49 | X18: 4.16 | Y18: 4.16 | Z18: 3.16 | AA18: 0.91 | AB18: 0.06
B20: smjer | C20: RS->ME
D21: sat | E21: 1 | F21: 2 | G21: 3 | H21: 4 | I21: 5 | J21: 6 | K21: 7 | L21: 8 | M21: 9 | N21: 10 | O21: 11 | P21: 12 | Q21: 13 | R21: 14 | S21: 15 | T21: 16 | U21: 17 | V21: 18 | W21: 19 | X21: 20 | Y21: 21 | Z21: 22 | AA21: 23 | AB21: 24
C22: ATC | E22: 65 | F22: 75 | G22: 75 | H22: 75 | I22: 75 | J22: 75 | K22: 80 | L22: 81 | M22: 71 | N22: 71 | O22: 72 | P22: 72 | Q22: 72 | R22: 72 | S22: 72 | T22: 72 | U22: 72 | V22: 95 | W22: 214 | X22: 244 | Y22: 244 | Z22: 244 | AA22: 184 | AB22: 97
C23: zahtijevani kap. | E23: 497 | F23: 487 | G23: 486 | H23: 486 | I23: 485 | J23: 474 | K23: 478 | L23: 482 | M23: 493 | N23: 514 | O23: 509 | P23: 518 | Q23: 522 | R23: 532 | S23: 539 | T23: 543 | U23: 533 | V23: 464 | W23: 483 | X23: 492 | Y23: 490 | Z23: 490 | AA23: 410 | AB23: 407
C24: dodijeljeni kap. | E24: 65 | F24: 75 | G24: 75 | H24: 75 | I24: 75 | J24: 75 | K24: 80 | L24: 81 | M24: 71 | N24: 71 | O24: 72 | P24: 72 | Q24: 72 | R24: 72 | S24: 72 | T24: 72 | U24: 72 | V24: 95 | W24: 214 | X24: 244 | Y24: 244 | Z24: 244 | AA24: 184 | AB24: 97
C25: cijena [€/MW] | E25: 18.4 | F25: 17.59 | G25: 17.37 | H25: 18.36 | I25: 21 | J25: 22.16 | K25: 27.18 | L25: 39.44 | M25: 51.06 | N25: 69.3 | O25: 70.21 | P25: 72.75 | Q25: 72.75 | R25: 72.75 | S25: 72.75 | T25: 62 | U25: 33 | V25: 15.99 | W25: 0.98 | X25: 0.55 | Y25: 0.55 | Z25: 0.55 | AA25: 0.26 | AB25: 6.5

Sheet 06.07.
A10: Aukcija za dan | C10: 45844
B13: smjer | C13: ME->RS
D14: sat | E14: 1 | F14: 2 | G14: 3 | H14: 4 | I14: 5 | J14: 6 | K14: 7 | L14: 8 | M14: 9 | N14: 10 | O14: 11 | P14: 12 | Q14: 13 | R14: 14 | S14: 15 | T14: 16 | U14: 17 | V14: 18 | W14: 19 | X14: 20 | Y14: 21 | Z14: 22 | AA14: 23 | AB14: 24
C15: ATC | E15: 312 | F15: 302 | G15: 302 | H15: 302 | I15: 302 | J15: 302 | K15: 302 | L15: 316 | M15: 326 | N15: 316 | O15: 326 | P15: 326 | Q15: 326 | R15: 326 | S15: 326 | T15: 327 | U15: 327 | V15: 327 | W15: 201 | X15: 186 | Y15: 186 | Z15: 186 | AA15: 251 | AB15: 276
C16: zahtijevani kap. | E16: 474 | F16: 474 | G16: 474 | H16: 474 | I16: 474 | J16: 474 | K16: 474 | L16: 474 | M16: 474 | N16: 474 | O16: 474 | P16: 474 | Q16: 474 | R16: 474 | S16: 474 | T16: 474 | U16: 474 | V16: 548 | W16: 591 | X16: 591 | Y16: 591 | Z16: 591 | AA16: 591 | AB16: 576
C17: dodijeljeni kap. | E17: 312 | F17: 302 | G17: 302 | H17: 302 | I17: 302 | J17: 302 | K17: 302 | L17: 316 | M17: 326 | N17: 316 | O17: 326 | P17: 326 | Q17: 326 | R17: 326 | S17: 326 | T17: 327 | U17: 327 | V17: 327 | W17: 201 | X17: 186 | Y17: 186 | Z17: 186 | AA17: 251 | AB17: 276
C18: cijena [€/MW] | E18: 0.12 | F18: 0.12 | G18: 0.12 | H18: 0.12 | I18: 0.12 | J18: 0.12 | K18: 0.12 | L18: 0.11 | M18: 0.11 | N18: 0.13 | O18: 0.13 | P18: 0.13 | Q18: 0.13 | R18: 0.13 | S18: 0.13 | T18: 0.13 | U18: 0.13 | V18: 0.23 | W18: 2.25 | X18: 3.38 | Y18: 4.6 | Z18: 3.52 | AA18: 1.84 | AB18: 0.5
B20: smjer | C20: RS->ME
D21: sat | E21: 1 | F21: 2 | G21: 3 | H21: 4 | I21: 5 | J21: 6 | K21: 7 | L21: 8 | M21: 9 | N21: 10 | O21: 11 | P21: 12 | Q21: 13 | R21: 14 | S21: 15 | T21: 16 | U21: 17 | V21: 18 | W21: 19 | X21: 20 | Y21: 21 | Z21: 22 | AA21: 23 | AB21: 24
C22: ATC | E22: 88 | F22: 98 | G22: 98 | H22: 98 | I22: 98 | J22: 98 | K22: 98 | L22: 84 | M22: 74 | N22: 84 | O22: 74 | P22: 74 | Q22: 74 | R22: 74 | S22: 74 | T22: 73 | U22: 73 | V22: 73 | W22: 199 | X22: 214 | Y22: 214 | Z22: 214 | AA22: 149 | AB22: 124
C23: zahtijevani kap. | E23: 579 | F23: 578 | G23: 569 | H23: 574 | I23: 576 | J23: 575 | K23: 567 | L23: 573 | M23: 579 | N23: 575 | O23: 578 | P23: 600 | Q23: 608 | R23: 609 | S23: 605 | T23: 595 | U23: 596 | V23: 582 | W23: 578 | X23: 587 | Y23: 576 | Z23: 582 | AA23: 567 | AB23: 565
C24: dodijeljeni kap. | E24: 88 | F24: 98 | G24: 98 | H24: 98 | I24: 98 | J24: 98 | K24: 98 | L24: 84 | M24: 74 | N24: 84 | O24: 74 | P24: 74 | Q24: 74 | R24: 74 | S24: 74 | T24: 73 | U24: 73 | V24: 73 | W24: 199 | X24: 214 | Y24: 214 | Z24: 214 | AA24: 149 | AB24: 124
C25: cijena [€/MW] | E25: 16.58 | F25: 16.99 | G25: 16.99 | H25: 20.59 | I25: 24.05 | J25: 23.56 | K25: 23.62 | L25: 28.35 | M25: 32.85 | N25: 60.66 | O25: 70.21 | P25: 75.55 | Q25: 77.22 | R25: 75.55 | S25: 78.3 | T25: 62.64 | U25: 36.18 | V25: 23.73 | W25: 0.7 | X25: 0.7 | Y25: 0.55 | Z25: 0.7 | AA25: 1.5 | AB25: 6

Sheet 07.07.
A10: Aukcija za dan | C10: 45845
B13: smjer | C13: ME->RS
D14: sat | E14: 1 | F14: 2 | G14: 3 | H14: 4 | I14: 5 | J14: 6 | K14: 7 | L14: 8 | M14: 9 | N14: 10 | O14: 11 | P14: 12 | Q14: 13 | R14: 14 | S14: 15 | T14: 16 | U14: 17 | V14: 18 | W14: 19 | X14: 20 | Y14: 21 | Z14: 22 | AA14: 23 | AB14: 24
C15: ATC | E15: 317 | F15: 317 | G15: 307 | H15: 307 | I15: 307 | J15: 307 | K15: 307 | L15: 307 | M15: 332 | N15: 332 | O15: 308 | P15: 308 | Q15: 308 | R15: 308 | S15: 308 | T15: 308 | U15: 308 | V15: 238 | W15: 119 | X15: 102 | Y15: 102 | Z15: 102 | AA15: 149 | AB15: 279
C16: zahtijevani kap. | E16: 321 | F16: 321 | G16: 321 | H16: 321 | I16: 321 | J16: 321 | K16: 321 | L16: 321 | M16: 321 | N16: 321 | O16: 325 | P16: 325 | Q16: 321 | R16: 321 | S16: 321 | T16: 321 | U16: 321 | V16: 362 | W16: 404 | X16: 424 | Y16: 424 | Z16: 424 | AA16: 384 | AB16: 344
C17: dodijeljeni kap. | E17: 317 | F17: 317 | G17: 307 | H17: 307 | I17: 307 | J17: 307 | K17: 307 | L17: 307 | M17: 321 | N17: 321 | O17: 308 | P17: 308 | Q17: 308 | R17: 308 | S17: 308 | T17: 308 | U17: 308 | V17: 238 | W17: 119 | X17: 102 | Y17: 102 | Z17: 102 | AA17: 149 | AB17: 279
C18: cijena [€/MW] | E18: 0.03 | F18: 0.03 | G18: 0.03 | H18: 0.03 | I18: 0.03 | J18: 0.03 | K18: 0.03 | L18: 0.03 | M18: 0 | N18: 0 | O18: 0.05 | P18: 0.05 | Q18: 0.03 | R18: 0.03 | S18: 0.03 | T18: 0.03 | U18: 0.03 | V18: 0.23 | W18: 7.77 | X18: 15.55 | Y18: 15.55 | Z18: 13.78 | AA18: 1.06 | AB18: 0.1
B20: smjer | C20: RS->ME
D21: sat | E21: 1 | F21: 2 | G21: 3 | H21: 4 | I21: 5 | J21: 6 | K21: 7 | L21: 8 | M21: 9 | N21: 10 | O21: 11 | P21: 12 | Q21: 13 | R21: 14 | S21: 15 | T21: 16 | U21: 17 | V21: 18 | W21: 19 | X21: 20 | Y21: 21 | Z21: 22 | AA21: 23 | AB21: 24
C22: ATC | E22: 83 | F22: 83 | G22: 93 | H22: 93 | I22: 93 | J22: 93 | K22: 93 | L22: 93 | M22: 68 | N22: 68 | O22: 92 | P22: 92 | Q22: 92 | R22: 92 | S22: 92 | T22: 92 | U22: 92 | V22: 162 | W22: 281 | X22: 298 | Y22: 298 | Z22: 298 | AA22: 251 | AB22: 121
C23: zahtijevani kap. | E23: 325 | F23: 313 | G23: 312 | H23: 312 | I23: 312 | J23: 322 | K23: 304 | L23: 305 | M23: 307 | N23: 344 | O23: 345 | P23: 348 | Q23: 354 | R23: 351 | S23: 353 | T23: 368 | U23: 364 | V23: 297 | W23: 306 | X23: 319 | Y23: 315 | Z23: 322 | AA23: 294 | AB23: 303
C24: dodijeljeni kap. | E24: 83 | F24: 83 | G24: 93 | H24: 93 | I24: 93 | J24: 93 | K24: 93 | L24: 93 | M24: 68 | N24: 68 | O24: 92 | P24: 92 | Q24: 92 | R24: 92 | S24: 92 | T24: 92 | U24: 92 | V24: 162 | W24: 281 | X24: 298 | Y24: 298 | Z24: 298 | AA24: 251 | AB24: 121
C25: cijena [€/MW] | E25: 9.39 | F25: 11.26 | G25: 9.63 | H25: 11.12 | I25: 10.56 | J25: 6.79 | K25: 0.51 | L25: 1.5 | M25: 4.27 | N25: 19.4 | O25: 15.55 | P25: 16.51 | Q25: 17.73 | R25: 18.11 | S25: 17.87 | T25: 20.4 | U25: 15.55 | V25: 0.18 | W25: 0.09 | X25: 0.09 | Y25: 0.07 | Z25: 0.09 | AA25: 0.11 | AB25: 0.99

Sheet 08.07.
A10: Aukcija za dan | C10: 45846
B13: smjer | C13: ME->RS
D14: sat | E14: 1 | F14: 2 | G14: 3 | H14: 4 | I14: 5 | J14: 6 | K14: 7 | L14: 8 | M14: 9 | N14: 10 | O14: 11 | P14: 12 | Q14: 13 | R14: 14 | S14: 15 | T14: 16 | U14: 17 | V14: 18 | W14: 19 | X14: 20 | Y14: 21 | Z14: 22 | AA14: 23 | AB14: 24
C15: ATC | E15: 284 | F15: 284 | G15: 284 | H15: 284 | I15: 284 | J15: 284 | K15: 285 | L15: 282 | M15: 298 | N15: 298 | O15: 308 | P15: 308 | Q15: 308 | R15: 293 | S15: 293 | T15: 293 | U15: 293 | V15: 203 | W15: 105 | X15: 87 | Y15: 87 | Z15: 87 | AA15: 246 | AB15: 283
C16: zahtijevani kap. | E16: 296 | F16: 296 | G16: 296 | H16: 296 | I16: 296 | J16: 296 | K16: 296 | L16: 296 | M16: 306 | N16: 306 | O16: 310 | P16: 315 | Q16: 301 | R16: 306 | S16: 301 | T16: 301 | U16: 351 | V16: 367 | W16: 379 | X16: 394 | Y16: 394 | Z16: 394 | AA16: 379 | AB16: 319
C17: dodijeljeni kap. | E17: 284 | F17: 284 | G17: 284 | H17: 284 | I17: 284 | J17: 284 | K17: 285 | L17: 282 | M17: 298 | N17: 298 | O17: 308 | P17: 308 | Q17: 301 | R17: 293 | S17: 293 | T17: 293 | U17: 293 | V17: 203 | W17: 105 | X17: 87 | Y17: 87 | Z17: 87 | AA17: 246 | AB17: 283
C18: cijena [€/MW] | E18: 0.03 | F18: 0.03 | G18: 0.03 | H18: 0.03 | I18: 0.03 | J18: 0.03 | K18: 0.04 | L18: 0.04 | M18: 0.03 | N18: 0.03 | O18: 0.03 | P18: 0.03 | Q18: 0 | R18: 0.03 | S18: 0.03 | T18: 0.03 | U18: 0.06 | V18: 0.99 | W18: 11 | X18: 25.01 | Y18: 38.96 | Z18: 22.96 | AA18: 0.16 | AB18: 0.06
B20: smjer | C20: RS->ME
D21: sat | E21: 1 | F21: 2 | G21: 3 | H21: 4 | I21: 5 | J21: 6 | K21: 7 | L21: 8 | M21: 9 | N21: 10 | O21: 11 | P21: 12 | Q21: 13 | R21: 14 | S21: 15 | T21: 16 | U21: 17 | V21: 18 | W21: 19 | X21: 20 | Y21: 21 | Z21: 22 | AA21: 23 | AB21: 24
C22: ATC | E22: 116 | F22: 116 | G22: 116 | H22: 116 | I22: 116 | J22: 116 | K22: 115 | L22: 118 | M22: 102 | N22: 102 | O22: 92 | P22: 92 | Q22: 92 | R22: 107 | S22: 107 | T22: 107 | U22: 107 | V22: 197 | W22: 295 | X22: 313 | Y22: 313 | Z22: 313 | AA22: 154 | AB22: 117
C23: zahtijevani kap. | E23: 465 | F23: 464 | G23: 451 | H23: 457 | I23: 462 | J23: 460 | K23: 451 | L23: 463 | M23: 486 | N23: 486 | O23: 467 | P23: 463 | Q23: 467 | R23: 473 | S23: 479 | T23: 467 | U23: 405 | V23: 409 | W23: 398 | X23: 395 | Y23: 390 | Z23: 392 | AA23: 373 | AB23: 391
C24: dodijeljeni kap. | E24: 116 | F24: 116 | G24: 116 | H24: 116 | I24: 116 | J24: 116 | K24: 115 | L24: 118 | M24: 102 | N24: 102 | O24: 92 | P24: 92 | Q24: 92 | R24: 107 | S24: 107 | T24: 107 | U24: 107 | V24: 197 | W24: 295 | X24: 313 | Y24: 313 | Z24: 313 | AA24: 154 | AB24: 117
C25: cijena [€/MW] | E25: 9.39 | F25: 11.11 | G25: 11.81 | H25: 14 | I25: 11.11 | J25: 6.99 | K25: 4 | L25: 3.02 | M25: 8 | N25: 27.72 | O25: 28.08 | P25: 39.32 | Q25: 34 | R25: 33.59 | S25: 18.36 | T25: 19.85 | U25: 9.05 | V25: 0.48 | W25: 0.13 | X25: 0.11 | Y25: 0.11 | Z25: 0.11 | AA25: 0.99 | AB25: 4.6

Sheet 09.07.
A10: Aukcija za dan | C10: 45847
B13: smjer | C13: ME->RS
D14: sat | E14: 1 | F14: 2 | G14: 3 | H14: 4 | I14: 5 | J14: 6 | K14: 7 | L14: 8 | M14: 9 | N14: 10 | O14: 11 | P14: 12 | Q14: 13 | R14: 14 | S14: 15 | T14: 16 | U14: 17 | V14: 18 | W14: 19 | X14: 20 | Y14: 21 | Z14: 22 | AA14: 23 | AB14: 24
C15: ATC | E15: 302 | F15: 302 | G15: 302 | H15: 302 | I15: 302 | J15: 325 | K15: 296 | L15: 296 | M15: 273 | N15: 273 | O15: 273 | P15: 273 | Q15: 273 | R15: 278 | S15: 302 | T15: 273 | U15: 283 | V15: 270 | W15: 123 | X15: 113 | Y15: 113 | Z15: 113 | AA15: 256 | AB15: 300
C16: zahtijevani kap. | E16: 361 | F16: 361 | G16: 361 | H16: 361 | I16: 361 | J16: 361 | K16: 361 | L16: 361 | M16: 361 | N16: 361 | O16: 363 | P16: 365 | Q16: 363 | R16: 361 | S16: 361 | T16: 361 | U16: 361 | V16: 378 | W16: 390 | X16: 390 | Y16: 390 | Z16: 390 | AA16: 370 | AB16: 373
C17: dodijeljeni kap. | E17: 302 | F17: 302 | G17: 302 | H17: 302 | I17: 302 | J17: 325 | K17: 296 | L17: 296 | M17: 273 | N17: 273 | O17: 273 | P17: 273 | Q17: 273 | R17: 278 | S17: 302 | T17: 273 | U17: 283 | V17: 270 | W17: 123 | X17: 113 | Y17: 113 | Z17: 113 | AA17: 256 | AB17: 300
C18: cijena [€/MW] | E18: 0.06 | F18: 0.06 | G18: 0.06 | H18: 0.06 | I18: 0.06 | J18: 0.06 | K18: 0.06 | L18: 0.06 | M18: 0.06 | N18: 0.06 | O18: 0.06 | P18: 0.07 | Q18: 0.06 | R18: 0.06 | S18: 0.06 | T18: 0.06 | U18: 0.06 | V18: 0.1 | W18: 3.75 | X18: 4.44 | Y18: 12.32 | Z18: 13.02 | AA18: 0.1 | AB18: 0.06
B20: smjer | C20: RS->ME
D21: sat | E21: 1 | F21: 2 | G21: 3 | H21: 4 | I21: 5 | J21: 6 | K21: 7 | L21: 8 | M21: 9 | N21: 10 | O21: 11 | P21: 12 | Q21: 13 | R21: 14 | S21: 15 | T21: 16 | U21: 17 | V21: 18 | W21: 19 | X21: 20 | Y21: 21 | Z21: 22 | AA21: 23 | AB21: 24
C22: ATC | E22: 98 | F22: 98 | G22: 98 | H22: 98 | I22: 98 | J22: 75 | K22: 104 | L22: 104 | M22: 127 | N22: 127 | O22: 127 | P22: 127 | Q22: 127 | R22: 122 | S22: 98 | T22: 127 | U22: 117 | V22: 130 | W22: 277 | X22: 287 | Y22: 287 | Z22: 287 | AA22: 144 | AB22: 100
C23: zahtijevani kap. | E23: 462 | F23: 491 | G23: 491 | H23: 491 | I23: 491 | J23: 476 | K23: 432 | L23: 434 | M23: 478 | N23: 506 | O23: 502 | P23: 495 | Q23: 499 | R23: 500 | S23: 491 | T23: 499 | U23: 493 | V23: 473 | W23: 464 | X23: 427 | Y23: 426 | Z23: 423 | AA23: 396 | AB23: 440
C24: dodijeljeni kap. | E24: 98 | F24: 98 | G24: 98 | H24: 98 | I24: 98 | J24: 75 | K24: 104 | L24: 104 | M24: 127 | N24: 127 | O24: 127 | P24: 127 | Q24: 127 | R24: 122 | S24: 98 | T24: 127 | U24: 117 | V24: 130 | W24: 277 | X24: 287 | Y24: 287 | Z24: 287 | AA24: 144 | AB24: 100
C25: cijena [€/MW] | E25: 5.55 | F25: 9.01 | G25: 10.53 | H25: 10.66 | I25: 8.45 | J25: 9.05 | K25: 0.75 | L25: 1.88 | M25: 3.1 | N25: 5.6 | O25: 8.82 | P25: 12.96 | Q25: 13.33 | R25: 14.07 | S25: 21.97 | T25: 15.99 | U25: 9.24 | V25: 2.8 | W25: 0.26 | X25: 0.17 | Y25: 0.17 | Z25: 0.13 | AA25: 1.53 | AB25: 4.6

Sheet 10.07.
A10: Aukcija za dan | C10: 45848
B13: smjer | C13: ME->RS
D14: sat | E14: 1 | F14: 2 | G14: 3 | H14: 4 | I14: 5 | J14: 6 | K14: 7 | L14: 8 | M14: 9 | N14: 10 | O14: 11 | P14: 12 | Q14: 13 | R14: 14 | S14: 15 | T14: 16 | U14: 17 | V14: 18 | W14: 19 | X14: 20 | Y14: 21 | Z14: 22 | AA14: 23 | AB14: 24
C15: ATC | E15: 307 | F15: 307 | G15: 307 | H15: 307 | I15: 307 | J15: 307 | K15: 307 | L15: 307 | M15: 307 | N15: 307 | O15: 317 | P15: 317 | Q15: 317 | R15: 317 | S15: 317 | T15: 317 | U15: 324 | V15: 300 | W15: 212 | X15: 140 | Y15: 84 | Z15: 84 | AA15: 235 | AB15: 307
C16: zahtijevani kap. | E16: 361 | F16: 361 | G16: 401 | H16: 393 | I16: 388 | J16: 403 | K16: 401 | L16: 361 | M16: 361 | N16: 361 | O16: 363 | P16: 365 | Q16: 363 | R16: 361 | S16: 361 | T16: 361 | U16: 361 | V16: 363 | W16: 420 | X16: 425 | Y16: 410 | Z16: 410 | AA16: 358 | AB16: 358
C17: dodijeljeni kap. | E17: 307 | F17: 307 | G17: 307 | H17: 307 | I17: 307 | J17: 307 | K17: 307 | L17: 307 | M17: 307 | N17: 307 | O17: 317 | P17: 317 | Q17: 317 | R17: 317 | S17: 317 | T17: 317 | U17: 324 | V17: 300 | W17: 212 | X17: 140 | Y17: 84 | Z17: 84 | AA17: 235 | AB17: 307
C18: cijena [€/MW] | E18: 0.06 | F18: 0.06 | G18: 0.07 | H18: 0.06 | I18: 0.06 | J18: 0.07 | K18: 0.07 | L18: 0.06 | M18: 0.06 | N18: 0.06 | O18: 0.06 | P18: 0.06 | Q18: 0.06 | R18: 0.06 | S18: 0.06 | T18: 0.06 | U18: 0.06 | V18: 0.06 | W18: 0.26 | X18: 2.01 | Y18: 15.66 | Z18: 9.81 | AA18: 0.13 | AB18: 0.06
B20: smjer | C20: RS->ME
D21: sat | E21: 1 | F21: 2 | G21: 3 | H21: 4 | I21: 5 | J21: 6 | K21: 7 | L21: 8 | M21: 9 | N21: 10 | O21: 11 | P21: 12 | Q21: 13 | R21: 14 | S21: 15 | T21: 16 | U21: 17 | V21: 18 | W21: 19 | X21: 20 | Y21: 21 | Z21: 22 | AA21: 23 | AB21: 24
C22: ATC | E22: 93 | F22: 93 | G22: 93 | H22: 93 | I22: 93 | J22: 93 | K22: 93 | L22: 93 | M22: 93 | N22: 93 | O22: 83 | P22: 83 | Q22: 83 | R22: 83 | S22: 83 | T22: 83 | U22: 76 | V22: 100 | W22: 188 | X22: 260 | Y22: 316 | Z22: 316 | AA22: 165 | AB22: 93
C23: zahtijevani kap. | E23: 519 | F23: 532 | G23: 519 | H23: 519 | I23: 519 | J23: 519 | K23: 520 | L23: 535 | M23: 533 | N23: 544 | O23: 536 | P23: 546 | Q23: 545 | R23: 545 | S23: 545 | T23: 559 | U23: 515 | V23: 526 | W23: 432 | X23: 430 | Y23: 429 | Z23: 429 | AA23: 451 | AB23: 464
C24: dodijeljeni kap. | E24: 93 | F24: 93 | G24: 93 | H24: 93 | I24: 93 | J24: 93 | K24: 93 | L24: 93 | M24: 93 | N24: 93 | O24: 83 | P24: 83 | Q24: 83 | R24: 83 | S24: 83 | T24: 83 | U24: 76 | V24: 100 | W24: 188 | X24: 260 | Y24: 316 | Z24: 316 | AA24: 165 | AB24: 93
C25: cijena [€/MW] | E25: 10.2 | F25: 17.16 | G25: 17.5 | H25: 19 | I25: 16.1 | J25: 9.05 | K25: 7.7 | L25: 14.24 | M25: 15.22 | N25: 15.22 | O25: 16.8 | P25: 19.31 | Q25: 25.39 | R25: 27.66 | S25: 31.97 | T25: 30.35 | U25: 18.49 | V25: 4.53 | W25: 1.04 | X25: 0.36 | Y25: 0.13 | Z25: 0.13 | AA25: 2.12 | AB25: 6.8

Sheet 11.07.
A10: Aukcija za dan | C10: 45849
B13: smjer | C13: ME->RS
D14: sat | E14: 1 | F14: 2 | G14: 3 | H14: 4 | I14: 5 | J14: 6 | K14: 7 | L14: 8 | M14: 9 | N14: 10 | O14: 11 | P14: 12 | Q14: 13 | R14: 14 | S14: 15 | T14: 16 | U14: 17 | V14: 18 | W14: 19 | X14: 20 | Y14: 21 | Z14: 22 | AA14: 23 | AB14: 24
C15: ATC | E15: 302 | F15: 302 | G15: 302 | H15: 302 | I15: 302 | J15: 302 | K15: 302 | L15: 302 | M15: 324 | N15: 334 | O15: 334 | P15: 334 | Q15: 334 | R15: 334 | S15: 334 | T15: 334 | U15: 334 | V15: 312 | W15: 243 | X15: 179 | Y15: 179 | Z15: 179 | AA15: 269 | AB15: 302
C16: zahtijevani kap. | E16: 361 | F16: 361 | G16: 361 | H16: 361 | I16: 361 | J16: 361 | K16: 361 | L16: 361 | M16: 361 | N16: 361 | O16: 361 | P16: 364 | Q16: 364 | R16: 363 | S16: 361 | T16: 361 | U16: 361 | V16: 363 | W16: 420 | X16: 425 | Y16: 375 | Z16: 375 | AA16: 363 | AB16: 358
C17: dodijeljeni kap. | E17: 302 | F17: 302 | G17: 302 | H17: 302 | I17: 302 | J17: 302 | K17: 302 | L17: 302 | M17: 324 | N17: 334 | O17: 334 | P17: 334 | Q17: 334 | R17: 334 | S17: 334 | T17: 334 | U17: 334 | V17: 312 | W17: 243 | X17: 179 | Y17: 179 | Z17: 179 | AA17: 269 | AB17: 302
C18: cijena [€/MW] | E18: 0.06 | F18: 0.06 | G18: 0.06 | H18: 0.06 | I18: 0.06 | J18: 0.06 | K18: 0.06 | L18: 0.06 | M18: 0.06 | N18: 0.04 | O18: 0.04 | P18: 0.05 | Q18: 0.05 | R18: 0.04 | S18: 0.04 | T18: 0.04 | U18: 0.04 | V18: 0.06 | W18: 0.22 | X18: 2.52 | Y18: 2.55 | Z18: 1.49 | AA18: 0.13 | AB18: 0.06
B20: smjer | C20: RS->ME
D21: sat | E21: 1 | F21: 2 | G21: 3 | H21: 4 | I21: 5 | J21: 6 | K21: 7 | L21: 8 | M21: 9 | N21: 10 | O21: 11 | P21: 12 | Q21: 13 | R21: 14 | S21: 15 | T21: 16 | U21: 17 | V21: 18 | W21: 19 | X21: 20 | Y21: 21 | Z21: 22 | AA21: 23 | AB21: 24
C22: ATC | E22: 98 | F22: 98 | G22: 98 | H22: 98 | I22: 98 | J22: 98 | K22: 98 | L22: 98 | M22: 76 | N22: 66 | O22: 66 | P22: 66 | Q22: 66 | R22: 66 | S22: 66 | T22: 66 | U22: 66 | V22: 88 | W22: 157 | X22: 221 | Y22: 221 | Z22: 221 | AA22: 131 | AB22: 98
C23: zahtijevani kap. | E23: 529 | F23: 527 | G23: 528 | H23: 527 | I23: 527 | J23: 527 | K23: 529 | L23: 534 | M23: 575 | N23: 572 | O23: 564 | P23: 543 | Q23: 544 | R23: 544 | S23: 528 | T23: 508 | U23: 509 | V23: 512 | W23: 449 | X23: 441 | Y23: 490 | Z23: 488 | AA23: 473 | AB23: 474
C24: dodijeljeni kap. | E24: 98 | F24: 98 | G24: 98 | H24: 98 | I24: 98 | J24: 98 | K24: 98 | L24: 98 | M24: 76 | N24: 66 | O24: 66 | P24: 66 | Q24: 66 | R24: 66 | S24: 66 | T24: 66 | U24: 66 | V24: 88 | W24: 157 | X24: 221 | Y24: 221 | Z24: 221 | AA24: 131 | AB24: 98
C25: cijena [€/MW] | E25: 7.8 | F25: 8.4 | G25: 13.33 | H25: 13.03 | I25: 13.29 | J25: 11.8 | K25: 13.33 | L25: 16 | M25: 22.88 | N25: 46.48 | O25: 37.2 | P25: 36.34 | Q25: 45.87 | R25: 57.64 | S25: 47.39 | T25: 34.82 | U25: 26.55 | V25: 13.66 | W25: 1.55 | X25: 0.55 | Y25: 0.76 | Z25: 0.76 | AA25: 3.6 | AB25: 6.8

Sheet 12.07.
A10: Aukcija za dan | C10: 45850
B13: smjer | C13: ME->RS
D14: sat | E14: 1 | F14: 2 | G14: 3 | H14: 4 | I14: 5 | J14: 6 | K14: 7 | L14: 8 | M14: 9 | N14: 10 | O14: 11 | P14: 12 | Q14: 13 | R14: 14 | S14: 15 | T14: 16 | U14: 17 | V14: 18 | W14: 19 | X14: 20 | Y14: 21 | Z14: 22 | AA14: 23 | AB14: 24
C15: ATC | E15: 302 | F15: 302 | G15: 302 | H15: 302 | I15: 302 | J15: 302 | K15: 302 | L15: 302 | M15: 325 | N15: 335 | O15: 292 | P15: 292 | Q15: 292 | R15: 292 | S15: 292 | T15: 292 | U15: 335 | V15: 332 | W15: 209 | X15: 159 | Y15: 159 | Z15: 159 | AA15: 269 | AB15: 278
C16: zahtijevani kap. | E16: 346 | F16: 346 | G16: 346 | H16: 346 | I16: 346 | J16: 346 | K16: 346 | L16: 346 | M16: 346 | N16: 346 | O16: 346 | P16: 351 | Q16: 351 | R16: 351 | S16: 351 | T16: 351 | U16: 351 | V16: 348 | W16: 405 | X16: 410 | Y16: 420 | Z16: 370 | AA16: 348 | AB16: 343
C17: dodijeljeni kap. | E17: 302 | F17: 302 | G17: 302 | H17: 302 | I17: 302 | J17: 302 | K17: 302 | L17: 302 | M17: 325 | N17: 335 | O17: 292 | P17: 292 | Q17: 292 | R17: 292 | S17: 292 | T17: 292 | U17: 335 | V17: 332 | W17: 209 | X17: 159 | Y17: 159 | Z17: 159 | AA17: 269 | AB17: 278
C18: cijena [€/MW] | E18: 0.06 | F18: 0.06 | G18: 0.06 | H18: 0.06 | I18: 0.06 | J18: 0.06 | K18: 0.06 | L18: 0.06 | M18: 0.04 | N18: 0.03 | O18: 0.06 | P18: 0.06 | Q18: 0.06 | R18: 0.06 | S18: 0.06 | T18: 0.06 | U18: 0.05 | V18: 0.04 | W18: 0.49 | X18: 2.1 | Y18: 5.11 | Z18: 1.4 | AA18: 0.12 | AB18: 0.06
B20: smjer | C20: RS->ME
D21: sat | E21: 1 | F21: 2 | G21: 3 | H21: 4 | I21: 5 | J21: 6 | K21: 7 | L21: 8 | M21: 9 | N21: 10 | O21: 11 | P21: 12 | Q21: 13 | R21: 14 | S21: 15 | T21: 16 | U21: 17 | V21: 18 | W21: 19 | X21: 20 | Y21: 21 | Z21: 22 | AA21: 23 | AB21: 24
C22: ATC | E22: 98 | F22: 98 | G22: 98 | H22: 98 | I22: 98 | J22: 98 | K22: 98 | L22: 98 | M22: 75 | N22: 65 | O22: 108 | P22: 108 | Q22: 108 | R22: 108 | S22: 108 | T22: 108 | U22: 65 | V22: 68 | W22: 191 | X22: 241 | Y22: 241 | Z22: 241 | AA22: 131 | AB22: 122
C23: zahtijevani kap. | E23: 545 | F23: 543 | G23: 541 | H23: 541 | I23: 541 | J23: 541 | K23: 543 | L23: 551 | M23: 567 | N23: 587 | O23: 443 | P23: 410 | Q23: 430 | R23: 426 | S23: 423 | T23: 422 | U23: 518 | V23: 416 | W23: 374 | X23: 374 | Y23: 375 | Z23: 424 | AA23: 438 | AB23: 455
C24: dodijeljeni kap. | E24: 98 | F24: 98 | G24: 98 | H24: 98 | I24: 98 | J24: 98 | K24: 98 | L24: 98 | M24: 75 | N24: 65 | O24: 108 | P24: 108 | Q24: 108 | R24: 108 | S24: 108 | T24: 108 | U24: 65 | V24: 68 | W24: 191 | X24: 241 | Y24: 241 | Z24: 241 | AA24: 131 | AB24: 122
C25: cijena [€/MW] | E25: 22.2 | F25: 24 | G25: 20.07 | H25: 22.2 | I25: 22.2 | J25: 22.2 | K25: 24 | L25: 36.9 | M25: 46 | N25: 112.19 | O25: 45 | P25: 39.34 | Q25: 24.03 | R25: 19.4 | S25: 19 | T25: 18.95 | U25: 40.5 | V25: 17.01 | W25: 0.55 | X25: 0.17 | Y25: 0.17 | Z25: 0.33 | AA25: 5.2 | AB25: 5.2

Sheet 13.07.
A10: Aukcija za dan | C10: 45851
B13: smjer | C13: ME->RS
D14: sat | E14: 1 | F14: 2 | G14: 3 | H14: 4 | I14: 5 | J14: 6 | K14: 7 | L14: 8 | M14: 9 | N14: 10 | O14: 11 | P14: 12 | Q14: 13 | R14: 14 | S14: 15 | T14: 16 | U14: 17 | V14: 18 | W14: 19 | X14: 20 | Y14: 21 | Z14: 22 | AA14: 23 | AB14: 24
C15: ATC | E15: 304 | F15: 304 | G15: 304 | H15: 304 | I15: 304 | J15: 304 | K15: 304 | L15: 304 | M15: 319 | N15: 329 | O15: 286 | P15: 286 | Q15: 286 | R15: 286 | S15: 286 | T15: 286 | U15: 305 | V15: 310 | W15: 241 | X15: 126 | Y15: 101 | Z15: 101 | AA15: 206 | AB15: 275
C16: zahtijevani kap. | E16: 236 | F16: 236 | G16: 236 | H16: 236 | I16: 236 | J16: 236 | K16: 236 | L16: 236 | M16: 236 | N16: 236 | O16: 236 | P16: 241 | Q16: 241 | R16: 241 | S16: 241 | T16: 241 | U16: 241 | V16: 238 | W16: 245 | X16: 250 | Y16: 290 | Z16: 290 | AA16: 268 | AB16: 263
C17: dodijeljeni kap. | E17: 236 | F17: 236 | G17: 236 | H17: 236 | I17: 236 | J17: 236 | K17: 236 | L17: 236 | M17: 236 | N17: 236 | O17: 236 | P17: 241 | Q17: 241 | R17: 241 | S17: 241 | T17: 241 | U17: 241 | V17: 238 | W17: 241 | X17: 126 | Y17: 101 | Z17: 101 | AA17: 206 | AB17: 263
C18: cijena [€/MW] | E18: 0 | F18: 0 | G18: 0 | H18: 0 | I18: 0 | J18: 0 | K18: 0 | L18: 0 | M18: 0 | N18: 0 | O18: 0 | P18: 0 | Q18: 0 | R18: 0 | S18: 0 | T18: 0 | U18: 0 | V18: 0 | W18: 0.03 | X18: 0.83 | Y18: 3.69 | Z18: 2.1 | AA18: 0.1 | AB18: 0
B20: smjer | C20: RS->ME
D21: sat | E21: 1 | F21: 2 | G21: 3 | H21: 4 | I21: 5 | J21: 6 | K21: 7 | L21: 8 | M21: 9 | N21: 10 | O21: 11 | P21: 12 | Q21: 13 | R21: 14 | S21: 15 | T21: 16 | U21: 17 | V21: 18 | W21: 19 | X21: 20 | Y21: 21 | Z21: 22 | AA21: 23 | AB21: 24
C22: ATC | E22: 96 | F22: 96 | G22: 96 | H22: 96 | I22: 96 | J22: 96 | K22: 96 | L22: 96 | M22: 81 | N22: 71 | O22: 114 | P22: 114 | Q22: 114 | R22: 114 | S22: 114 | T22: 114 | U22: 95 | V22: 90 | W22: 159 | X22: 274 | Y22: 299 | Z22: 299 | AA22: 194 | AB22: 125
C23: zahtijevani kap. | E23: 380 | F23: 377 | G23: 375 | H23: 374 | I23: 374 | J23: 374 | K23: 373 | L23: 376 | M23: 380 | N23: 381 | O23: 319 | P23: 322 | Q23: 327 | R23: 328 | S23: 325 | T23: 337 | U23: 359 | V23: 356 | W23: 328 | X23: 267 | Y23: 268 | Z23: 269 | AA23: 275 | AB23: 294
C24: dodijeljeni kap. | E24: 96 | F24: 96 | G24: 96 | H24: 96 | I24: 96 | J24: 96 | K24: 96 | L24: 96 | M24: 81 | N24: 71 | O24: 114 | P24: 114 | Q24: 114 | R24: 114 | S24: 114 | T24: 114 | U24: 95 | V24: 90 | W24: 159 | X24: 267 | Y24: 268 | Z24: 269 | AA24: 194 | AB24: 125
C25: cijena [€/MW] | E25: 10.55 | F25: 10.64 | G25: 7.1 | H25: 15.42 | I25: 14.27 | J25: 14.16 | K25: 19.2 | L25: 21.63 | M25: 27.12 | N25: 50 | O25: 26.48 | P25: 26.48 | Q25: 21 | R25: 17.34 | S25: 15.68 | T25: 24.7 | U25: 32.4 | V25: 23.81 | W25: 3.65 | X25: 0 | Y25: 0 | Z25: 0 | AA25: 0.13 | AB25: 1.83

Sheet 14.07.
A10: Aukcija za dan | C10: 45852
B13: smjer | C13: ME->RS
D14: sat | E14: 1 | F14: 2 | G14: 3 | H14: 4 | I14: 5 | J14: 6 | K14: 7 | L14: 8 | M14: 9 | N14: 10 | O14: 11 | P14: 12 | Q14: 13 | R14: 14 | S14: 15 | T14: 16 | U14: 17 | V14: 18 | W14: 19 | X14: 20 | Y14: 21 | Z14: 22 | AA14: 23 | AB14: 24
C15: ATC | E15: 273 | F15: 273 | G15: 302 | H15: 302 | I15: 302 | J15: 302 | K15: 302 | L15: 302 | M15: 312 | N15: 312 | O15: 322 | P15: 322 | Q15: 322 | R15: 322 | S15: 322 | T15: 322 | U15: 322 | V15: 302 | W15: 159 | X15: 144 | Y15: 144 | Z15: 144 | AA15: 228 | AB15: 257
C16: zahtijevani kap. | E16: 271 | F16: 271 | G16: 271 | H16: 271 | I16: 271 | J16: 271 | K16: 271 | L16: 271 | M16: 271 | N16: 271 | O16: 271 | P16: 276 | Q16: 276 | R16: 276 | S16: 276 | T16: 276 | U16: 276 | V16: 273 | W16: 350 | X16: 355 | Y16: 365 | Z16: 365 | AA16: 273 | AB16: 268
C17: dodijeljeni kap. | E17: 271 | F17: 271 | G17: 271 | H17: 271 | I17: 271 | J17: 271 | K17: 271 | L17: 271 | M17: 271 | N17: 271 | O17: 271 | P17: 276 | Q17: 276 | R17: 276 | S17: 276 | T17: 276 | U17: 276 | V17: 273 | W17: 159 | X17: 144 | Y17: 144 | Z17: 144 | AA17: 228 | AB17: 257
C18: cijena [€/MW] | E18: 0 | F18: 0 | G18: 0 | H18: 0 | I18: 0 | J18: 0 | K18: 0 | L18: 0 | M18: 0 | N18: 0 | O18: 0 | P18: 0 | Q18: 0 | R18: 0 | S18: 0 | T18: 0 | U18: 0 | V18: 0 | W18: 2.94 | X18: 10.44 | Y18: 23.48 | Z18: 11 | AA18: 0.13 | AB18: 0.06
B20: smjer | C20: RS->ME
D21: sat | E21: 1 | F21: 2 | G21: 3 | H21: 4 | I21: 5 | J21: 6 | K21: 7 | L21: 8 | M21: 9 | N21: 10 | O21: 11 | P21: 12 | Q21: 13 | R21: 14 | S21: 15 | T21: 16 | U21: 17 | V21: 18 | W21: 19 | X21: 20 | Y21: 21 | Z21: 22 | AA21: 23 | AB21: 24
C22: ATC | E22: 127 | F22: 127 | G22: 98 | H22: 98 | I22: 98 | J22: 98 | K22: 98 | L22: 98 | M22: 88 | N22: 88 | O22: 78 | P22: 78 | Q22: 78 | R22: 78 | S22: 78 | T22: 78 | U22: 78 | V22: 98 | W22: 241 | X22: 256 | Y22: 256 | Z22: 256 | AA22: 172 | AB22: 143
C23: zahtijevani kap. | E23: 433 | F23: 430 | G23: 429 | H23: 429 | I23: 429 | J23: 429 | K23: 432 | L23: 434 | M23: 448 | N23: 455 | O23: 410 | P23: 410 | Q23: 410 | R23: 411 | S23: 411 | T23: 421 | U23: 457 | V23: 379 | W23: 318 | X23: 304 | Y23: 305 | Z23: 303 | AA23: 345 | AB23: 359
C24: dodijeljeni kap. | E24: 127 | F24: 127 | G24: 98 | H24: 98 | I24: 98 | J24: 98 | K24: 98 | L24: 98 | M24: 88 | N24: 88 | O24: 78 | P24: 78 | Q24: 78 | R24: 78 | S24: 78 | T24: 78 | U24: 78 | V24: 98 | W24: 241 | X24: 256 | Y24: 256 | Z24: 256 | AA24: 172 | AB24: 143
C25: cijena [€/MW] | E25: 4.69 | F25: 8.53 | G25: 8.52 | H25: 8.15 | I25: 9 | J25: 5.42 | K25: 2.2 | L25: 7.72 | M25: 27.84 | N25: 37.13 | O25: 32.41 | P25: 36.01 | Q25: 44.08 | R25: 51.4 | S25: 44.46 | T25: 48 | U25: 25.66 | V25: 24 | W25: 0.26 | X25: 0.11 | Y25: 0.11 | Z25: 0.11 | AA25: 0.98 | AB25: 2.67

Sheet 15.07.
A10: Aukcija za dan | C10: 45853
B13: smjer | C13: ME->RS
D14: sat | E14: 1 | F14: 2 | G14: 3 | H14: 4 | I14: 5 | J14: 6 | K14: 7 | L14: 8 | M14: 9 | N14: 10 | O14: 11 | P14: 12 | Q14: 13 | R14: 14 | S14: 15 | T14: 16 | U14: 17 | V14: 18 | W14: 19 | X14: 20 | Y14: 21 | Z14: 22 | AA14: 23 | AB14: 24
C15: ATC | E15: 302 | F15: 302 | G15: 302 | H15: 302 | I15: 302 | J15: 302 | K15: 302 | L15: 302 | M15: 302 | N15: 312 | O15: 326 | P15: 331 | Q15: 331 | R15: 331 | S15: 331 | T15: 331 | U15: 331 | V15: 252 | W15: 150 | X15: 135 | Y15: 135 | Z15: 135 | AA15: 214 | AB15: 243
C16: zahtijevani kap. | E16: 361 | F16: 361 | G16: 361 | H16: 361 | I16: 361 | J16: 361 | K16: 361 | L16: 361 | M16: 361 | N16: 361 | O16: 361 | P16: 361 | Q16: 361 | R16: 361 | S16: 361 | T16: 361 | U16: 361 | V16: 363 | W16: 385 | X16: 450 | Y16: 450 | Z16: 450 | AA16: 363 | AB16: 358
C17: dodijeljeni kap. | E17: 302 | F17: 302 | G17: 302 | H17: 302 | I17: 302 | J17: 302 | K17: 302 | L17: 302 | M17: 302 | N17: 312 | O17: 326 | P17: 331 | Q17: 331 | R17: 331 | S17: 331 | T17: 331 | U17: 331 | V17: 252 | W17: 150 | X17: 135 | Y17: 135 | Z17: 135 | AA17: 214 | AB17: 243
C18: cijena [€/MW] | E18: 0.06 | F18: 0.06 | G18: 0.06 | H18: 0.06 | I18: 0.06 | J18: 0.06 | K18: 0.06 | L18: 0.06 | M18: 0.06 | N18: 0.06 | O18: 0.05 | P18: 0.05 | Q18: 0.05 | R18: 0.05 | S18: 0.05 | T18: 0.05 | U18: 0.05 | V18: 0.1 | W18: 0.49 | X18: 4.01 | Y18: 12.51 | Z18: 5.76 | AA18: 0.13 | AB18: 0.13
B20: smjer | C20: RS->ME
D21: sat | E21: 1 | F21: 2 | G21: 3 | H21: 4 | I21: 5 | J21: 6 | K21: 7 | L21: 8 | M21: 9 | N21: 10 | O21: 11 | P21: 12 | Q21: 13 | R21: 14 | S21: 15 | T21: 16 | U21: 17 | V21: 18 | W21: 19 | X21: 20 | Y21: 21 | Z21: 22 | AA21: 23 | AB21: 24
C22: ATC | E22: 98 | F22: 98 | G22: 98 | H22: 98 | I22: 98 | J22: 98 | K22: 98 | L22: 98 | M22: 98 | N22: 88 | O22: 74 | P22: 69 | Q22: 69 | R22: 69 | S22: 69 | T22: 69 | U22: 69 | V22: 148 | W22: 250 | X22: 265 | Y22: 265 | Z22: 265 | AA22: 186 | AB22: 157
C23: zahtijevani kap. | E23: 479 | F23: 497 | G23: 495 | H23: 495 | I23: 494 | J23: 494 | K23: 480 | L23: 484 | M23: 506 | N23: 554 | O23: 552 | P23: 533 | Q23: 531 | R23: 533 | S23: 532 | T23: 499 | U23: 501 | V23: 445 | W23: 430 | X23: 410 | Y23: 412 | Z23: 409 | AA23: 402 | AB23: 455
C24: dodijeljeni kap. | E24: 98 | F24: 98 | G24: 98 | H24: 98 | I24: 98 | J24: 98 | K24: 98 | L24: 98 | M24: 98 | N24: 88 | O24: 74 | P24: 69 | Q24: 69 | R24: 69 | S24: 69 | T24: 69 | U24: 69 | V24: 148 | W24: 250 | X24: 265 | Y24: 265 | Z24: 265 | AA24: 186 | AB24: 157
C25: cijena [€/MW] | E25: 7.08 | F25: 11 | G25: 12.25 | H25: 12.31 | I25: 11.37 | J25: 10.33 | K25: 6.69 | L25: 9.29 | M25: 15.78 | N25: 24.8 | O25: 36 | P25: 36 | Q25: 40.74 | R25: 36 | S25: 40.04 | T25: 36.19 | U25: 25.34 | V25: 2.5 | W25: 0.75 | X25: 0.23 | Y25: 0.17 | Z25: 0.13 | AA25: 0.75 | AB25: 4.58

Sheet 16.07.
A10: Aukcija za dan | C10: 45854
B13: smjer | C13: ME->RS
D14: sat | E14: 1 | F14: 2 | G14: 3 | H14: 4 | I14: 5 | J14: 6 | K14: 7 | L14: 8 | M14: 9 | N14: 10 | O14: 11 | P14: 12 | Q14: 13 | R14: 14 | S14: 15 | T14: 16 | U14: 17 | V14: 18 | W14: 19 | X14: 20 | Y14: 21 | Z14: 22 | AA14: 23 | AB14: 24
C15: ATC | E15: 302 | F15: 302 | G15: 302 | H15: 302 | I15: 302 | J15: 302 | K15: 302 | L15: 302 | M15: 322 | N15: 325 | O15: 325 | P15: 335 | Q15: 335 | R15: 335 | S15: 335 | T15: 335 | U15: 335 | V15: 296 | W15: 159 | X15: 144 | Y15: 144 | Z15: 144 | AA15: 231 | AB15: 282
C16: zahtijevani kap. | E16: 351 | F16: 351 | G16: 351 | H16: 351 | I16: 351 | J16: 351 | K16: 351 | L16: 351 | M16: 351 | N16: 351 | O16: 351 | P16: 351 | Q16: 351 | R16: 351 | S16: 351 | T16: 351 | U16: 351 | V16: 351 | W16: 399 | X16: 429 | Y16: 429 | Z16: 419 | AA16: 367 | AB16: 358
C17: dodijeljeni kap. | E17: 302 | F17: 302 | G17: 302 | H17: 302 | I17: 302 | J17: 302 | K17: 302 | L17: 302 | M17: 322 | N17: 325 | O17: 325 | P17: 335 | Q17: 335 | R17: 335 | S17: 335 | T17: 335 | U17: 335 | V17: 296 | W17: 159 | X17: 144 | Y17: 144 | Z17: 144 | AA17: 231 | AB17: 282
C18: cijena [€/MW] | E18: 0.06 | F18: 0.06 | G18: 0.06 | H18: 0.06 | I18: 0.06 | J18: 0.06 | K18: 0.06 | L18: 0.06 | M18: 0.04 | N18: 0.03 | O18: 0.03 | P18: 0.03 | Q18: 0.03 | R18: 0.03 | S18: 0.03 | T18: 0.03 | U18: 0.03 | V18: 0.06 | W18: 0.82 | X18: 2.16 | Y18: 6.01 | Z18: 2.53 | AA18: 0.12 | AB18: 0.06
B20: smjer | C20: RS->ME
D21: sat | E21: 1 | F21: 2 | G21: 3 | H21: 4 | I21: 5 | J21: 6 | K21: 7 | L21: 8 | M21: 9 | N21: 10 | O21: 11 | P21: 12 | Q21: 13 | R21: 14 | S21: 15 | T21: 16 | U21: 17 | V21: 18 | W21: 19 | X21: 20 | Y21: 21 | Z21: 22 | AA21: 23 | AB21: 24
C22: ATC | E22: 98 | F22: 98 | G22: 98 | H22: 98 | I22: 98 | J22: 98 | K22: 98 | L22: 98 | M22: 78 | N22: 75 | O22: 75 | P22: 65 | Q22: 65 | R22: 65 | S22: 65 | T22: 65 | U22: 65 | V22: 104 | W22: 241 | X22: 256 | Y22: 256 | Z22: 256 | AA22: 169 | AB22: 118
C23: zahtijevani kap. | E23: 465 | F23: 478 | G23: 472 | H23: 472 | I23: 477 | J23: 477 | K23: 463 | L23: 439 | M23: 453 | N23: 469 | O23: 466 | P23: 448 | Q23: 454 | R23: 454 | S23: 418 | T23: 460 | U23: 392 | V23: 431 | W23: 418 | X23: 400 | Y23: 397 | Z23: 392 | AA23: 392 | AB23: 409
C24: dodijeljeni kap. | E24: 98 | F24: 98 | G24: 98 | H24: 98 | I24: 98 | J24: 98 | K24: 98 | L24: 98 | M24: 78 | N24: 75 | O24: 75 | P24: 65 | Q24: 65 | R24: 65 | S24: 65 | T24: 65 | U24: 65 | V24: 104 | W24: 241 | X24: 256 | Y24: 256 | Z24: 256 | AA24: 169 | AB24: 118
C25: cijena [€/MW] | E25: 12.2 | F25: 17.59 | G25: 21 | H25: 21 | I25: 21 | J25: 21.11 | K25: 16 | L25: 16.23 | M25: 35.55 | N25: 51.79 | O25: 35.55 | P25: 35.55 | Q25: 35.55 | R25: 35.55 | S25: 35.55 | T25: 35.55 | U25: 35.55 | V25: 5.55 | W25: 0.75 | X25: 0.23 | Y25: 0.18 | Z25: 0.18 | AA25: 0.89 | AB25: 9.37

Sheet 17.07.
A10: Aukcija za dan | C10: 45855
B13: smjer | C13: ME->RS
D14: sat | E14: 1 | F14: 2 | G14: 3 | H14: 4 | I14: 5 | J14: 6 | K14: 7 | L14: 8 | M14: 9 | N14: 10 | O14: 11 | P14: 12 | Q14: 13 | R14: 14 | S14: 15 | T14: 16 | U14: 17 | V14: 18 | W14: 19 | X14: 20 | Y14: 21 | Z14: 22 | AA14: 23 | AB14: 24
C15: ATC | E15: 312 | F15: 312 | G15: 302 | H15: 302 | I15: 302 | J15: 302 | K15: 302 | L15: 302 | M15: 335 | N15: 335 | O15: 335 | P15: 335 | Q15: 335 | R15: 335 | S15: 335 | T15: 335 | U15: 326 | V15: 326 | W15: 163 | X15: 153 | Y15: 153 | Z15: 153 | AA15: 245 | AB15: 303
C16: zahtijevani kap. | E16: 368 | F16: 368 | G16: 368 | H16: 368 | I16: 368 | J16: 367 | K16: 367 | L16: 367 | M16: 367 | N16: 367 | O16: 367 | P16: 367 | Q16: 367 | R16: 367 | S16: 367 | T16: 367 | U16: 367 | V16: 367 | W16: 391 | X16: 426 | Y16: 427 | Z16: 426 | AA16: 389 | AB16: 374
C17: dodijeljeni kap. | E17: 312 | F17: 312 | G17: 302 | H17: 302 | I17: 302 | J17: 302 | K17: 302 | L17: 302 | M17: 335 | N17: 335 | O17: 335 | P17: 335 | Q17: 335 | R17: 335 | S17: 335 | T17: 335 | U17: 326 | V17: 326 | W17: 163 | X17: 153 | Y17: 153 | Z17: 153 | AA17: 245 | AB17: 303
C18: cijena [€/MW] | E18: 0.06 | F18: 0.06 | G18: 0.06 | H18: 0.06 | I18: 0.06 | J18: 0.06 | K18: 0.06 | L18: 0.06 | M18: 0.05 | N18: 0.05 | O18: 0.05 | P18: 0.05 | Q18: 0.05 | R18: 0.05 | S18: 0.05 | T18: 0.05 | U18: 0.06 | V18: 0.06 | W18: 1.3 | X18: 3.99 | Y18: 3.99 | Z18: 1.56 | AA18: 0.23 | AB18: 0.06
B20: smjer | C20: RS->ME
D21: sat | E21: 1 | F21: 2 | G21: 3 | H21: 4 | I21: 5 | J21: 6 | K21: 7 | L21: 8 | M21: 9 | N21: 10 | O21: 11 | P21: 12 | Q21: 13 | R21: 14 | S21: 15 | T21: 16 | U21: 17 | V21: 18 | W21: 19 | X21: 20 | Y21: 21 | Z21: 22 | AA21: 23 | AB21: 24
C22: ATC | E22: 88 | F22: 88 | G22: 98 | H22: 98 | I22: 98 | J22: 98 | K22: 98 | L22: 98 | M22: 65 | N22: 65 | O22: 65 | P22: 65 | Q22: 65 | R22: 65 | S22: 65 | T22: 65 | U22: 74 | V22: 74 | W22: 237 | X22: 247 | Y22: 247 | Z22: 247 | AA22: 155 | AB22: 97
C23: zahtijevani kap. | E23: 494 | F23: 495 | G23: 494 | H23: 494 | I23: 494 | J23: 494 | K23: 495 | L23: 497 | M23: 530 | N23: 548 | O23: 545 | P23: 536 | Q23: 536 | R23: 536 | S23: 537 | T23: 459 | U23: 536 | V23: 461 | W23: 415 | X23: 417 | Y23: 418 | Z23: 415 | AA23: 423 | AB23: 440
C24: dodijeljeni kap. | E24: 88 | F24: 88 | G24: 98 | H24: 98 | I24: 98 | J24: 98 | K24: 98 | L24: 98 | M24: 65 | N24: 65 | O24: 65 | P24: 65 | Q24: 65 | R24: 65 | S24: 65 | T24: 65 | U24: 74 | V24: 74 | W24: 237 | X24: 247 | Y24: 247 | Z24: 247 | AA24: 155 | AB24: 97
C25: cijena [€/MW] | E25: 14.72 | F25: 15.99 | G25: 23.95 | H25: 21.39 | I25: 20.8 | J25: 18.43 | K25: 14.07 | L25: 15.99 | M25: 23.55 | N25: 38 | O25: 52 | P25: 50 | Q25: 42 | R25: 50 | S25: 50 | T25: 43 | U25: 23.55 | V25: 8.24 | W25: 0.33 | X25: 0.26 | Y25: 0.24 | Z25: 0.24 | AA25: 3.68 | AB25: 15.99

Sheet 18.07.
A10: Aukcija za dan | C10: 45856
B13: smjer | C13: ME->RS
D14: sat | E14: 1 | F14: 2 | G14: 3 | H14: 4 | I14: 5 | J14: 6 | K14: 7 | L14: 8 | M14: 9 | N14: 10 | O14: 11 | P14: 12 | Q14: 13 | R14: 14 | S14: 15 | T14: 16 | U14: 17 | V14: 18 | W14: 19 | X14: 20 | Y14: 21 | Z14: 22 | AA14: 23 | AB14: 24
C15: ATC | E15: 307 | F15: 297 | G15: 297 | H15: 297 | I15: 297 | J15: 297 | K15: 297 | L15: 297 | M15: 297 | N15: 322 | O15: 322 | P15: 322 | Q15: 322 | R15: 322 | S15: 322 | T15: 322 | U15: 322 | V15: 298 | W15: 169 | X15: 159 | Y15: 156 | Z15: 156 | AA15: 241 | AB15: 278
C16: zahtijevani kap. | E16: 361 | F16: 361 | G16: 361 | H16: 361 | I16: 361 | J16: 361 | K16: 378 | L16: 366 | M16: 361 | N16: 361 | O16: 361 | P16: 363 | Q16: 364 | R16: 363 | S16: 361 | T16: 361 | U16: 361 | V16: 369 | W16: 422 | X16: 457 | Y16: 507 | Z16: 507 | AA16: 384 | AB16: 369
C17: dodijeljeni kap. | E17: 307 | F17: 297 | G17: 297 | H17: 297 | I17: 297 | J17: 297 | K17: 297 | L17: 297 | M17: 297 | N17: 322 | O17: 322 | P17: 322 | Q17: 322 | R17: 322 | S17: 322 | T17: 322 | U17: 322 | V17: 298 | W17: 169 | X17: 159 | Y17: 156 | Z17: 156 | AA17: 241 | AB17: 278
C18: cijena [€/MW] | E18: 0.06 | F18: 0.06 | G18: 0.06 | H18: 0.06 | I18: 0.06 | J18: 0.06 | K18: 0.13 | L18: 0.06 | M18: 0.06 | N18: 0.04 | O18: 0.04 | P18: 0.04 | Q18: 0.04 | R18: 0.04 | S18: 0.04 | T18: 0.04 | U18: 0.04 | V18: 0.06 | W18: 1.68 | X18: 6.6 | Y18: 14.46 | Z18: 8.19 | AA18: 0.39 | AB18: 0.08
B20: smjer | C20: RS->ME
D21: sat | E21: 1 | F21: 2 | G21: 3 | H21: 4 | I21: 5 | J21: 6 | K21: 7 | L21: 8 | M21: 9 | N21: 10 | O21: 11 | P21: 12 | Q21: 13 | R21: 14 | S21: 15 | T21: 16 | U21: 17 | V21: 18 | W21: 19 | X21: 20 | Y21: 21 | Z21: 22 | AA21: 23 | AB21: 24
C22: ATC | E22: 93 | F22: 103 | G22: 103 | H22: 103 | I22: 103 | J22: 103 | K22: 103 | L22: 103 | M22: 103 | N22: 78 | O22: 78 | P22: 78 | Q22: 78 | R22: 78 | S22: 78 | T22: 78 | U22: 78 | V22: 102 | W22: 231 | X22: 241 | Y22: 244 | Z22: 244 | AA22: 159 | AB22: 122
C23: zahtijevani kap. | E23: 483 | F23: 480 | G23: 474 | H23: 474 | I23: 479 | J23: 479 | K23: 475 | L23: 481 | M23: 492 | N23: 510 | O23: 511 | P23: 493 | Q23: 502 | R23: 521 | S23: 499 | T23: 509 | U23: 470 | V23: 445 | W23: 415 | X23: 418 | Y23: 417 | Z23: 415 | AA23: 424 | AB23: 441
C24: dodijeljeni kap. | E24: 93 | F24: 103 | G24: 103 | H24: 103 | I24: 103 | J24: 103 | K24: 103 | L24: 103 | M24: 103 | N24: 78 | O24: 78 | P24: 78 | Q24: 78 | R24: 78 | S24: 78 | T24: 78 | U24: 78 | V24: 102 | W24: 231 | X24: 241 | Y24: 244 | Z24: 244 | AA24: 159 | AB24: 122
C25: cijena [€/MW] | E25: 8.57 | F25: 10.87 | G25: 11.46 | H25: 11 | I25: 11 | J25: 6.99 | K25: 4 | L25: 5.4 | M25: 7.82 | N25: 23.33 | O25: 28 | P25: 28 | Q25: 25.94 | R25: 27.81 | S25: 31.07 | T25: 25 | U25: 23.33 | V25: 2.94 | W25: 0.23 | X25: 0.2 | Y25: 0.2 | Z25: 0.2 | AA25: 0.75 | AB25: 6.01

Sheet 19.07.
A10: Aukcija za dan | C10: 45857
B13: smjer | C13: ME->RS
D14: sat | E14: 1 | F14: 2 | G14: 3 | H14: 4 | I14: 5 | J14: 6 | K14: 7 | L14: 8 | M14: 9 | N14: 10 | O14: 11 | P14: 12 | Q14: 13 | R14: 14 | S14: 15 | T14: 16 | U14: 17 | V14: 18 | W14: 19 | X14: 20 | Y14: 21 | Z14: 22 | AA14: 23 | AB14: 24
C15: ATC | E15: 312 | F15: 312 | G15: 302 | H15: 302 | I15: 302 | J15: 302 | K15: 302 | L15: 302 | M15: 302 | N15: 330 | O15: 330 | P15: 330 | Q15: 330 | R15: 330 | S15: 330 | T15: 330 | U15: 330 | V15: 330 | W15: 201 | X15: 176 | Y15: 143 | Z15: 143 | AA15: 256 | AB15: 277
C16: zahtijevani kap. | E16: 381 | F16: 381 | G16: 381 | H16: 381 | I16: 381 | J16: 381 | K16: 385 | L16: 381 | M16: 381 | N16: 381 | O16: 381 | P16: 381 | Q16: 381 | R16: 381 | S16: 381 | T16: 381 | U16: 381 | V16: 385 | W16: 400 | X16: 400 | Y16: 408 | Z16: 325 | AA16: 400 | AB16: 385
C17: dodijeljeni kap. | E17: 312 | F17: 312 | G17: 302 | H17: 302 | I17: 302 | J17: 302 | K17: 302 | L17: 302 | M17: 302 | N17: 330 | O17: 330 | P17: 330 | Q17: 330 | R17: 330 | S17: 330 | T17: 330 | U17: 330 | V17: 330 | W17: 201 | X17: 176 | Y17: 143 | Z17: 143 | AA17: 256 | AB17: 277
C18: cijena [€/MW] | E18: 0.06 | F18: 0.06 | G18: 0.06 | H18: 0.06 | I18: 0.06 | J18: 0.06 | K18: 0.06 | L18: 0.06 | M18: 0.06 | N18: 0.04 | O18: 0.04 | P18: 0.04 | Q18: 0.04 | R18: 0.04 | S18: 0.04 | T18: 0.04 | U18: 0.04 | V18: 0.04 | W18: 0.39 | X18: 1.14 | Y18: 2.77 | Z18: 1.03 | AA18: 0.13 | AB18: 0.06
B20: smjer | C20: RS->ME
D21: sat | E21: 1 | F21: 2 | G21: 3 | H21: 4 | I21: 5 | J21: 6 | K21: 7 | L21: 8 | M21: 9 | N21: 10 | O21: 11 | P21: 12 | Q21: 13 | R21: 14 | S21: 15 | T21: 16 | U21: 17 | V21: 18 | W21: 19 | X21: 20 | Y21: 21 | Z21: 22 | AA21: 23 | AB21: 24
C22: ATC | E22: 88 | F22: 88 | G22: 98 | H22: 98 | I22: 98 | J22: 98 | K22: 98 | L22: 98 | M22: 98 | N22: 70 | O22: 70 | P22: 70 | Q22: 70 | R22: 70 | S22: 70 | T22: 70 | U22: 70 | V22: 70 | W22: 199 | X22: 224 | Y22: 257 | Z22: 257 | AA22: 144 | AB22: 123
C23: zahtijevani kap. | E23: 526 | F23: 501 | G23: 499 | H23: 499 | I23: 499 | J23: 439 | K23: 548 | L23: 560 | M23: 562 | N23: 596 | O23: 618 | P23: 589 | Q23: 601 | R23: 601 | S23: 598 | T23: 547 | U23: 546 | V23: 496 | W23: 445 | X23: 436 | Y23: 437 | Z23: 435 | AA23: 472 | AB23: 484
C24: dodijeljeni kap. | E24: 88 | F24: 88 | G24: 98 | H24: 98 | I24: 98 | J24: 98 | K24: 98 | L24: 98 | M24: 98 | N24: 70 | O24: 70 | P24: 70 | Q24: 70 | R24: 70 | S24: 70 | T24: 70 | U24: 70 | V24: 70 | W24: 199 | X24: 224 | Y24: 257 | Z24: 257 | AA24: 144 | AB24: 123
C25: cijena [€/MW] | E25: 10.01 | F25: 9.6 | G25: 11.52 | H25: 11.11 | I25: 12.06 | J25: 11.31 | K25: 16.47 | L25: 24.36 | M25: 31.59 | N25: 62.73 | O25: 73.29 | P25: 78.7 | Q25: 65 | R25: 65.58 | S25: 69.27 | T25: 68.98 | U25: 63.45 | V25: 28.37 | W25: 0.75 | X25: 0.47 | Y25: 0.29 | Z25: 0.47 | AA25: 6.03 | AB25: 15

Sheet 20.07.
A10: Aukcija za dan | C10: 45858
B13: smjer | C13: ME->RS
D14: sat | E14: 1 | F14: 2 | G14: 3 | H14: 4 | I14: 5 | J14: 6 | K14: 7 | L14: 8 | M14: 9 | N14: 10 | O14: 11 | P14: 12 | Q14: 13 | R14: 14 | S14: 15 | T14: 16 | U14: 17 | V14: 18 | W14: 19 | X14: 20 | Y14: 21 | Z14: 22 | AA14: 23 | AB14: 24
C15: ATC | E15: 312 | F15: 312 | G15: 302 | H15: 302 | I15: 302 | J15: 302 | K15: 302 | L15: 312 | M15: 327 | N15: 327 | O15: 280 | P15: 280 | Q15: 280 | R15: 280 | S15: 280 | T15: 280 | U15: 298 | V15: 306 | W15: 213 | X15: 162 | Y15: 154 | Z15: 154 | AA15: 232 | AB15: 277
C16: zahtijevani kap. | E16: 267 | F16: 267 | G16: 267 | H16: 267 | I16: 267 | J16: 267 | K16: 271 | L16: 267 | M16: 267 | N16: 267 | O16: 267 | P16: 267 | Q16: 267 | R16: 267 | S16: 267 | T16: 267 | U16: 267 | V16: 271 | W16: 286 | X16: 286 | Y16: 294 | Z16: 286 | AA16: 286 | AB16: 271
C17: dodijeljeni kap. | E17: 267 | F17: 267 | G17: 267 | H17: 267 | I17: 267 | J17: 267 | K17: 271 | L17: 267 | M17: 267 | N17: 267 | O17: 267 | P17: 267 | Q17: 267 | R17: 267 | S17: 267 | T17: 267 | U17: 267 | V17: 271 | W17: 213 | X17: 162 | Y17: 154 | Z17: 154 | AA17: 232 | AB17: 271
C18: cijena [€/MW] | E18: 0 | F18: 0 | G18: 0 | H18: 0 | I18: 0 | J18: 0 | K18: 0 | L18: 0 | M18: 0 | N18: 0 | O18: 0 | P18: 0 | Q18: 0 | R18: 0 | S18: 0 | T18: 0 | U18: 0 | V18: 0 | W18: 0.06 | X18: 0.7 | Y18: 1.58 | Z18: 1.4 | AA18: 0.13 | AB18: 0
B20: smjer | C20: RS->ME
D21: sat | E21: 1 | F21: 2 | G21: 3 | H21: 4 | I21: 5 | J21: 6 | K21: 7 | L21: 8 | M21: 9 | N21: 10 | O21: 11 | P21: 12 | Q21: 13 | R21: 14 | S21: 15 | T21: 16 | U21: 17 | V21: 18 | W21: 19 | X21: 20 | Y21: 21 | Z21: 22 | AA21: 23 | AB21: 24
C22: ATC | E22: 88 | F22: 88 | G22: 98 | H22: 98 | I22: 98 | J22: 98 | K22: 98 | L22: 88 | M22: 73 | N22: 73 | O22: 120 | P22: 120 | Q22: 120 | R22: 120 | S22: 120 | T22: 120 | U22: 102 | V22: 94 | W22: 187 | X22: 238 | Y22: 246 | Z22: 246 | AA22: 168 | AB22: 123
C23: zahtijevani kap. | E23: 365 | F23: 365 | G23: 363 | H23: 363 | I23: 363 | J23: 363 | K23: 364 | L23: 361 | M23: 380 | N23: 411 | O23: 305 | P23: 318 | Q23: 318 | R23: 309 | S23: 306 | T23: 316 | U23: 365 | V23: 407 | W23: 309 | X23: 309 | Y23: 310 | Z23: 308 | AA23: 331 | AB23: 343
C24: dodijeljeni kap. | E24: 88 | F24: 88 | G24: 98 | H24: 98 | I24: 98 | J24: 98 | K24: 98 | L24: 88 | M24: 73 | N24: 73 | O24: 120 | P24: 120 | Q24: 120 | R24: 120 | S24: 120 | T24: 120 | U24: 102 | V24: 94 | W24: 187 | X24: 238 | Y24: 246 | Z24: 246 | AA24: 168 | AB24: 123
C25: cijena [€/MW] | E25: 15.79 | F25: 18 | G25: 22.43 | H25: 16.67 | I25: 19.78 | J25: 19.35 | K25: 24.73 | L25: 26.61 | M25: 34.8 | N25: 52 | O25: 5 | P25: 5 | Q25: 5 | R25: 5 | S25: 5 | T25: 5 | U25: 16.88 | V25: 10 | W25: 0.43 | X25: 0.23 | Y25: 0.13 | Z25: 0.13 | AA25: 0.33 | AB25: 4

Sheet 21.07.
A10: Aukcija za dan | C10: 45859
B13: smjer | C13: ME->RS
D14: sat | E14: 1 | F14: 2 | G14: 3 | H14: 4 | I14: 5 | J14: 6 | K14: 7 | L14: 8 | M14: 9 | N14: 10 | O14: 11 | P14: 12 | Q14: 13 | R14: 14 | S14: 15 | T14: 16 | U14: 17 | V14: 18 | W14: 19 | X14: 20 | Y14: 21 | Z14: 22 | AA14: 23 | AB14: 24
C15: ATC | E15: 318 | F15: 318 | G15: 308 | H15: 308 | I15: 308 | J15: 308 | K15: 308 | L15: 304 | M15: 314 | N15: 309 | O15: 328 | P15: 328 | Q15: 328 | R15: 328 | S15: 328 | T15: 328 | U15: 304 | V15: 284 | W15: 162 | X15: 152 | Y15: 149 | Z15: 149 | AA15: 220 | AB15: 285
C16: zahtijevani kap. | E16: 261 | F16: 261 | G16: 261 | H16: 261 | I16: 261 | J16: 261 | K16: 263 | L16: 261 | M16: 261 | N16: 261 | O16: 261 | P16: 264 | Q16: 264 | R16: 263 | S16: 263 | T16: 261 | U16: 261 | V16: 253 | W16: 288 | X16: 303 | Y16: 303 | Z16: 303 | AA16: 288 | AB16: 253
C17: dodijeljeni kap. | E17: 261 | F17: 261 | G17: 261 | H17: 261 | I17: 261 | J17: 261 | K17: 263 | L17: 261 | M17: 261 | N17: 261 | O17: 261 | P17: 264 | Q17: 264 | R17: 263 | S17: 263 | T17: 261 | U17: 261 | V17: 253 | W17: 162 | X17: 152 | Y17: 149 | Z17: 149 | AA17: 220 | AB17: 253
C18: cijena [€/MW] | E18: 0 | F18: 0 | G18: 0 | H18: 0 | I18: 0 | J18: 0 | K18: 0 | L18: 0 | M18: 0 | N18: 0 | O18: 0 | P18: 0 | Q18: 0 | R18: 0 | S18: 0 | T18: 0 | U18: 0 | V18: 0 | W18: 0.99 | X18: 5.33 | Y18: 6.55 | Z18: 6.55 | AA18: 0.21 | AB18: 0
B20: smjer | C20: RS->ME
D21: sat | E21: 1 | F21: 2 | G21: 3 | H21: 4 | I21: 5 | J21: 6 | K21: 7 | L21: 8 | M21: 9 | N21: 10 | O21: 11 | P21: 12 | Q21: 13 | R21: 14 | S21: 15 | T21: 16 | U21: 17 | V21: 18 | W21: 19 | X21: 20 | Y21: 21 | Z21: 22 | AA21: 23 | AB21: 24
C22: ATC | E22: 82 | F22: 82 | G22: 92 | H22: 92 | I22: 92 | J22: 92 | K22: 92 | L22: 96 | M22: 86 | N22: 91 | O22: 72 | P22: 72 | Q22: 72 | R22: 72 | S22: 72 | T22: 72 | U22: 96 | V22: 116 | W22: 238 | X22: 248 | Y22: 251 | Z22: 251 | AA22: 180 | AB22: 115
C23: zahtijevani kap. | E23: 346 | F23: 345 | G23: 345 | H23: 344 | I23: 344 | J23: 344 | K23: 345 | L23: 336 | M23: 357 | N23: 369 | O23: 388 | P23: 354 | Q23: 370 | R23: 380 | S23: 377 | T23: 385 | U23: 398 | V23: 395 | W23: 332 | X23: 335 | Y23: 327 | Z23: 317 | AA23: 346 | AB23: 353
C24: dodijeljeni kap. | E24: 82 | F24: 82 | G24: 92 | H24: 92 | I24: 92 | J24: 92 | K24: 92 | L24: 96 | M24: 86 | N24: 91 | O24: 72 | P24: 72 | Q24: 72 | R24: 72 | S24: 72 | T24: 72 | U24: 96 | V24: 116 | W24: 238 | X24: 248 | Y24: 251 | Z24: 251 | AA24: 180 | AB24: 115
C25: cijena [€/MW] | E25: 15 | F25: 15 | G25: 14.24 | H25: 11.2 | I25: 13.44 | J25: 7.5 | K25: 5 | L25: 7.74 | M25: 15 | N25: 25 | O25: 35.01 | P25: 25 | Q25: 25.55 | R25: 28.5 | S25: 29.2 | T25: 35.01 | U25: 25 | V25: 4.45 | W25: 0.22 | X25: 0.15 | Y25: 0.15 | Z25: 0.13 | AA25: 3.32 | AB25: 5.55

Sheet 22.07.
A10: Aukcija za dan | C10: 45860
B13: smjer | C13: ME->RS
D14: sat | E14: 1 | F14: 2 | G14: 3 | H14: 4 | I14: 5 | J14: 6 | K14: 7 | L14: 8 | M14: 9 | N14: 10 | O14: 11 | P14: 12 | Q14: 13 | R14: 14 | S14: 15 | T14: 16 | U14: 17 | V14: 18 | W14: 19 | X14: 20 | Y14: 21 | Z14: 22 | AA14: 23 | AB14: 24
C15: ATC | E15: 318 | F15: 318 | G15: 308 | H15: 308 | I15: 308 | J15: 308 | K15: 308 | L15: 304 | M15: 324 | N15: 319 | O15: 328 | P15: 328 | Q15: 328 | R15: 328 | S15: 328 | T15: 328 | U15: 304 | V15: 294 | W15: 153 | X15: 118 | Y15: 115 | Z15: 149 | AA15: 219 | AB15: 285
C16: zahtijevani kap. | E16: 375 | F16: 375 | G16: 375 | H16: 375 | I16: 375 | J16: 375 | K16: 375 | L16: 375 | M16: 375 | N16: 375 | O16: 375 | P16: 378 | Q16: 378 | R16: 377 | S16: 376 | T16: 375 | U16: 390 | V16: 394 | W16: 459 | X16: 449 | Y16: 457 | Z16: 449 | AA16: 372 | AB16: 372
C17: dodijeljeni kap. | E17: 318 | F17: 318 | G17: 308 | H17: 308 | I17: 308 | J17: 308 | K17: 308 | L17: 304 | M17: 324 | N17: 319 | O17: 328 | P17: 328 | Q17: 328 | R17: 328 | S17: 328 | T17: 328 | U17: 304 | V17: 294 | W17: 153 | X17: 118 | Y17: 115 | Z17: 149 | AA17: 219 | AB17: 285
C18: cijena [€/MW] | E18: 0.04 | F18: 0.04 | G18: 0.06 | H18: 0.06 | I18: 0.06 | J18: 0.06 | K18: 0.06 | L18: 0.06 | M18: 0.04 | N18: 0.04 | O18: 0.04 | P18: 0.04 | Q18: 0.04 | R18: 0.04 | S18: 0.04 | T18: 0.04 | U18: 0.12 | V18: 0.12 | W18: 8.21 | X18: 18 | Y18: 18.73 | Z18: 3.99 | AA18: 0.12 | AB18: 0.06
B20: smjer | C20: RS->ME
D21: sat | E21: 1 | F21: 2 | G21: 3 | H21: 4 | I21: 5 | J21: 6 | K21: 7 | L21: 8 | M21: 9 | N21: 10 | O21: 11 | P21: 12 | Q21: 13 | R21: 14 | S21: 15 | T21: 16 | U21: 17 | V21: 18 | W21: 19 | X21: 20 | Y21: 21 | Z21: 22 | AA21: 23 | AB21: 24
C22: ATC | E22: 82 | F22: 82 | G22: 92 | H22: 92 | I22: 92 | J22: 92 | K22: 92 | L22: 96 | M22: 76 | N22: 81 | O22: 72 | P22: 72 | Q22: 72 | R22: 72 | S22: 72 | T22: 72 | U22: 96 | V22: 106 | W22: 247 | X22: 282 | Y22: 285 | Z22: 251 | AA22: 181 | AB22: 115
C23: zahtijevani kap. | E23: 514 | F23: 514 | G23: 513 | H23: 513 | I23: 513 | J23: 513 | K23: 504 | L23: 509 | M23: 534 | N23: 563 | O23: 561 | P23: 546 | Q23: 549 | R23: 549 | S23: 546 | T23: 559 | U23: 525 | V23: 487 | W23: 463 | X23: 454 | Y23: 428 | Z23: 440 | AA23: 443 | AB23: 465
C24: dodijeljeni kap. | E24: 82 | F24: 82 | G24: 92 | H24: 92 | I24: 92 | J24: 92 | K24: 92 | L24: 96 | M24: 76 | N24: 81 | O24: 72 | P24: 72 | Q24: 72 | R24: 72 | S24: 72 | T24: 72 | U24: 96 | V24: 106 | W24: 247 | X24: 282 | Y24: 285 | Z24: 251 | AA24: 181 | AB24: 115
C25: cijena [€/MW] | E25: 12 | F25: 17.57 | G25: 17.57 | H25: 17.57 | I25: 13.31 | J25: 11.11 | K25: 9.74 | L25: 9.45 | M25: 32.84 | N25: 36.99 | O25: 71.75 | P25: 71.75 | Q25: 66.78 | R25: 65.05 | S25: 65 | T25: 54.71 | U25: 36.99 | V25: 3.63 | W25: 0.99 | X25: 0.33 | Y25: 0.23 | Z25: 0.99 | AA25: 1.55 | AB25: 4.73

Sheet 23.07.
A10: Aukcija za dan | C10: 45861
B13: smjer | C13: ME->RS
D14: sat | E14: 1 | F14: 2 | G14: 3 | H14: 4 | I14: 5 | J14: 6 | K14: 7 | L14: 8 | M14: 9 | N14: 10 | O14: 11 | P14: 12 | Q14: 13 | R14: 14 | S14: 15 | T14: 16 | U14: 17 | V14: 18 | W14: 19 | X14: 20 | Y14: 21 | Z14: 22 | AA14: 23 | AB14: 24
C15: ATC | E15: 283 | F15: 283 | G15: 273 | H15: 273 | I15: 273 | J15: 273 | K15: 273 | L15: 297 | M15: 313 | N15: 322 | O15: 322 | P15: 322 | Q15: 322 | R15: 322 | S15: 322 | T15: 322 | U15: 278 | V15: 170 | W15: 85 | X15: 85 | Y15: 85 | Z15: 85 | AA15: 158 | AB15: 253
C16: zahtijevani kap. | E16: 380 | F16: 380 | G16: 380 | H16: 380 | I16: 380 | J16: 380 | K16: 380 | L16: 380 | M16: 380 | N16: 380 | O16: 380 | P16: 383 | Q16: 383 | R16: 382 | S16: 381 | T16: 380 | U16: 385 | V16: 432 | W16: 465 | X16: 455 | Y16: 439 | Z16: 412 | AA16: 405 | AB16: 390
C17: dodijeljeni kap. | E17: 283 | F17: 283 | G17: 273 | H17: 273 | I17: 273 | J17: 273 | K17: 273 | L17: 297 | M17: 313 | N17: 322 | O17: 322 | P17: 322 | Q17: 322 | R17: 322 | S17: 322 | T17: 322 | U17: 278 | V17: 170 | W17: 85 | X17: 85 | Y17: 85 | Z17: 85 | AA17: 158 | AB17: 253
C18: cijena [€/MW] | E18: 0.07 | F18: 0.07 | G18: 0.08 | H18: 0.08 | I18: 0.08 | J18: 0.08 | K18: 0.08 | L18: 0.06 | M18: 0.06 | N18: 0.04 | O18: 0.04 | P18: 0.04 | Q18: 0.04 | R18: 0.04 | S18: 0.04 | T18: 0.04 | U18: 0.16 | V18: 5.93 | W18: 60.5 | X18: 63.79 | Y18: 54.06 | Z18: 8.21 | AA18: 1.64 | AB18: 0.2
B20: smjer | C20: RS->ME
D21: sat | E21: 1 | F21: 2 | G21: 3 | H21: 4 | I21: 5 | J21: 6 | K21: 7 | L21: 8 | M21: 9 | N21: 10 | O21: 11 | P21: 12 | Q21: 13 | R21: 14 | S21: 15 | T21: 16 | U21: 17 | V21: 18 | W21: 19 | X21: 20 | Y21: 21 | Z21: 22 | AA21: 23 | AB21: 24
C22: ATC | E22: 117 | F22: 117 | G22: 127 | H22: 127 | I22: 127 | J22: 127 | K22: 127 | L22: 103 | M22: 87 | N22: 78 | O22: 78 | P22: 78 | Q22: 78 | R22: 78 | S22: 78 | T22: 78 | U22: 122 | V22: 230 | W22: 315 | X22: 315 | Y22: 315 | Z22: 315 | AA22: 242 | AB22: 147
C23: zahtijevani kap. | E23: 503 | F23: 529 | G23: 525 | H23: 525 | I23: 518 | J23: 503 | K23: 501 | L23: 493 | M23: 499 | N23: 522 | O23: 526 | P23: 514 | Q23: 514 | R23: 514 | S23: 514 | T23: 501 | U23: 442 | V23: 438 | W23: 442 | X23: 430 | Y23: 429 | Z23: 424 | AA23: 419 | AB23: 427
C24: dodijeljeni kap. | E24: 117 | F24: 117 | G24: 127 | H24: 127 | I24: 127 | J24: 127 | K24: 127 | L24: 103 | M24: 87 | N24: 78 | O24: 78 | P24: 78 | Q24: 78 | R24: 78 | S24: 78 | T24: 78 | U24: 122 | V24: 230 | W24: 315 | X24: 315 | Y24: 315 | Z24: 315 | AA24: 242 | AB24: 147
C25: cijena [€/MW] | E25: 16.87 | F25: 21.83 | G25: 16.28 | H25: 19.62 | I25: 22.44 | J25: 11.11 | K25: 11.24 | L25: 25.25 | M25: 34.05 | N25: 49.69 | O25: 57.27 | P25: 56.42 | Q25: 58.51 | R25: 56.02 | S25: 55.01 | T25: 51.98 | U25: 16.41 | V25: 0.75 | W25: 0.26 | X25: 0.23 | Y25: 0.23 | Z25: 0.21 | AA25: 0.36 | AB25: 2.21

Sheet 24.07.
A10: Aukcija za dan | C10: 45862
B13: smjer | C13: ME->RS
D14: sat | E14: 1 | F14: 2 | G14: 3 | H14: 4 | I14: 5 | J14: 6 | K14: 7 | L14: 8 | M14: 9 | N14: 10 | O14: 11 | P14: 12 | Q14: 13 | R14: 14 | S14: 15 | T14: 16 | U14: 17 | V14: 18 | W14: 19 | X14: 20 | Y14: 21 | Z14: 22 | AA14: 23 | AB14: 24
C15: ATC | E15: 278 | F15: 278 | G15: 268 | H15: 268 | I15: 268 | J15: 268 | K15: 268 | L15: 297 | M15: 310 | N15: 322 | O15: 322 | P15: 322 | Q15: 322 | R15: 322 | S15: 322 | T15: 322 | U15: 293 | V15: 148 | W15: 84 | X15: 84 | Y15: 84 | Z15: 84 | AA15: 157 | AB15: 235
C16: zahtijevani kap. | E16: 400 | F16: 400 | G16: 400 | H16: 400 | I16: 400 | J16: 400 | K16: 400 | L16: 400 | M16: 400 | N16: 400 | O16: 400 | P16: 403 | Q16: 403 | R16: 402 | S16: 401 | T16: 400 | U16: 405 | V16: 432 | W16: 442 | X16: 442 | Y16: 446 | Z16: 462 | AA16: 455 | AB16: 450
C17: dodijeljeni kap. | E17: 278 | F17: 278 | G17: 268 | H17: 268 | I17: 268 | J17: 268 | K17: 268 | L17: 297 | M17: 310 | N17: 322 | O17: 322 | P17: 322 | Q17: 322 | R17: 322 | S17: 322 | T17: 322 | U17: 293 | V17: 148 | W17: 84 | X17: 84 | Y17: 84 | Z17: 84 | AA17: 157 | AB17: 235
C18: cijena [€/MW] | E18: 0.07 | F18: 0.07 | G18: 0.1 | H18: 0.1 | I18: 0.1 | J18: 0.1 | K18: 0.1 | L18: 0.06 | M18: 0.06 | N18: 0.06 | O18: 0.06 | P18: 0.06 | Q18: 0.06 | R18: 0.06 | S18: 0.06 | T18: 0.06 | U18: 0.12 | V18: 2.52 | W18: 39.99 | X18: 56.9 | Y18: 64.64 | Z18: 20.17 | AA18: 4.32 | AB18: 0.94
B20: smjer | C20: RS->ME
D21: sat | E21: 1 | F21: 2 | G21: 3 | H21: 4 | I21: 5 | J21: 6 | K21: 7 | L21: 8 | M21: 9 | N21: 10 | O21: 11 | P21: 12 | Q21: 13 | R21: 14 | S21: 15 | T21: 16 | U21: 17 | V21: 18 | W21: 19 | X21: 20 | Y21: 21 | Z21: 22 | AA21: 23 | AB21: 24
C22: ATC | E22: 122 | F22: 122 | G22: 132 | H22: 132 | I22: 132 | J22: 132 | K22: 132 | L22: 103 | M22: 90 | N22: 78 | O22: 78 | P22: 78 | Q22: 78 | R22: 78 | S22: 78 | T22: 78 | U22: 107 | V22: 252 | W22: 316 | X22: 316 | Y22: 316 | Z22: 316 | AA22: 243 | AB22: 165
C23: zahtijevani kap. | E23: 443 | F23: 469 | G23: 461 | H23: 463 | I23: 468 | J23: 438 | K23: 437 | L23: 443 | M23: 454 | N23: 511 | O23: 516 | P23: 504 | Q23: 504 | R23: 504 | S23: 505 | T23: 517 | U23: 457 | V23: 481 | W23: 461 | X23: 465 | Y23: 455 | Z23: 469 | AA23: 474 | AB23: 436
C24: dodijeljeni kap. | E24: 122 | F24: 122 | G24: 132 | H24: 132 | I24: 132 | J24: 132 | K24: 132 | L24: 103 | M24: 90 | N24: 78 | O24: 78 | P24: 78 | Q24: 78 | R24: 78 | S24: 78 | T24: 78 | U24: 107 | V24: 252 | W24: 316 | X24: 316 | Y24: 316 | Z24: 316 | AA24: 243 | AB24: 165
C25: cijena [€/MW] | E25: 3.39 | F25: 3.29 | G25: 3.31 | H25: 4 | I25: 4.06 | J25: 3.6 | K25: 3.02 | L25: 5.17 | M25: 14.18 | N25: 16.97 | O25: 24.58 | P25: 24.26 | Q25: 21 | R25: 21 | S25: 19.8 | T25: 22.36 | U25: 20.87 | V25: 0.47 | W25: 0.23 | X25: 0.23 | Y25: 0.23 | Z25: 0.22 | AA25: 0.37 | AB25: 1.17

Sheet 25.07.
A10: Aukcija za dan | C10: 45863
B13: smjer | C13: ME->RS
D14: sat | E14: 1 | F14: 2 | G14: 3 | H14: 4 | I14: 5 | J14: 6 | K14: 7 | L14: 8 | M14: 9 | N14: 10 | O14: 11 | P14: 12 | Q14: 13 | R14: 14 | S14: 15 | T14: 16 | U14: 17 | V14: 18 | W14: 19 | X14: 20 | Y14: 21 | Z14: 22 | AA14: 23 | AB14: 24
C15: ATC | E15: 278 | F15: 282 | G15: 272 | H15: 272 | I15: 272 | J15: 272 | K15: 272 | L15: 272 | M15: 312 | N15: 317 | O15: 317 | P15: 317 | Q15: 317 | R15: 317 | S15: 317 | T15: 317 | U15: 299 | V15: 213 | W15: 86 | X15: 84 | Y15: 84 | Z15: 82 | AA15: 91 | AB15: 222
C16: zahtijevani kap. | E16: 375 | F16: 375 | G16: 375 | H16: 375 | I16: 375 | J16: 375 | K16: 384 | L16: 384 | M16: 375 | N16: 375 | O16: 375 | P16: 378 | Q16: 378 | R16: 377 | S16: 376 | T16: 375 | U16: 380 | V16: 420 | W16: 400 | X16: 400 | Y16: 402 | Z16: 420 | AA16: 420 | AB16: 415
C17: dodijeljeni kap. | E17: 278 | F17: 282 | G17: 272 | H17: 272 | I17: 272 | J17: 272 | K17: 272 | L17: 272 | M17: 312 | N17: 317 | O17: 317 | P17: 317 | Q17: 317 | R17: 317 | S17: 317 | T17: 317 | U17: 299 | V17: 213 | W17: 86 | X17: 84 | Y17: 84 | Z17: 82 | AA17: 91 | AB17: 222
C18: cijena [€/MW] | E18: 0.06 | F18: 0.06 | G18: 0.06 | H18: 0.06 | I18: 0.06 | J18: 0.06 | K18: 0.06 | L18: 0.06 | M18: 0.06 | N18: 0.04 | O18: 0.04 | P18: 0.04 | Q18: 0.04 | R18: 0.04 | S18: 0.04 | T18: 0.04 | U18: 0.12 | V18: 0.89 | W18: 22.22 | X18: 34.46 | Y18: 39.04 | Z18: 22.22 | AA18: 6.11 | AB18: 0.46
B20: smjer | C20: RS->ME
D21: sat | E21: 1 | F21: 2 | G21: 3 | H21: 4 | I21: 5 | J21: 6 | K21: 7 | L21: 8 | M21: 9 | N21: 10 | O21: 11 | P21: 12 | Q21: 13 | R21: 14 | S21: 15 | T21: 16 | U21: 17 | V21: 18 | W21: 19 | X21: 20 | Y21: 21 | Z21: 22 | AA21: 23 | AB21: 24
C22: ATC | E22: 122 | F22: 118 | G22: 128 | H22: 128 | I22: 128 | J22: 128 | K22: 128 | L22: 128 | M22: 88 | N22: 83 | O22: 83 | P22: 83 | Q22: 83 | R22: 83 | S22: 83 | T22: 83 | U22: 101 | V22: 187 | W22: 314 | X22: 316 | Y22: 316 | Z22: 318 | AA22: 309 | AB22: 178
C23: zahtijevani kap. | E23: 474 | F23: 465 | G23: 456 | H23: 458 | I23: 463 | J23: 463 | K23: 441 | L23: 468 | M23: 512 | N23: 544 | O23: 544 | P23: 552 | Q23: 552 | R23: 552 | S23: 552 | T23: 539 | U23: 492 | V23: 486 | W23: 474 | X23: 474 | Y23: 472 | Z23: 501 | AA23: 461 | AB23: 458
C24: dodijeljeni kap. | E24: 122 | F24: 118 | G24: 128 | H24: 128 | I24: 128 | J24: 128 | K24: 128 | L24: 128 | M24: 88 | N24: 83 | O24: 83 | P24: 83 | Q24: 83 | R24: 83 | S24: 83 | T24: 83 | U24: 101 | V24: 187 | W24: 314 | X24: 316 | Y24: 316 | Z24: 318 | AA24: 309 | AB24: 178
C25: cijena [€/MW] | E25: 1.7 | F25: 1.64 | G25: 1.5 | H25: 2.1 | I25: 1.5 | J25: 1.45 | K25: 1.5 | L25: 2.59 | M25: 12.37 | N25: 22.29 | O25: 28 | P25: 27.22 | Q25: 23.04 | R25: 20.81 | S25: 21.04 | T25: 19.99 | U25: 7.42 | V25: 0.62 | W25: 0.22 | X25: 0.22 | Y25: 0.22 | Z25: 0.22 | AA25: 0.19 | AB25: 1.02

Sheet 26.07.
A10: Aukcija za dan | C10: 45864
B13: smjer | C13: ME->RS
D14: sat | E14: 1 | F14: 2 | G14: 3 | H14: 4 | I14: 5 | J14: 6 | K14: 7 | L14: 8 | M14: 9 | N14: 10 | O14: 11 | P14: 12 | Q14: 13 | R14: 14 | S14: 15 | T14: 16 | U14: 17 | V14: 18 | W14: 19 | X14: 20 | Y14: 21 | Z14: 22 | AA14: 23 | AB14: 24
C15: ATC | E15: 297 | F15: 297 | G15: 297 | H15: 297 | I15: 297 | J15: 297 | K15: 302 | L15: 302 | M15: 313 | N15: 322 | O15: 322 | P15: 322 | Q15: 322 | R15: 322 | S15: 322 | T15: 322 | U15: 322 | V15: 261 | W15: 167 | X15: 89 | Y15: 89 | Z15: 87 | AA15: 209 | AB15: 286
C16: zahtijevani kap. | E16: 375 | F16: 375 | G16: 375 | H16: 375 | I16: 375 | J16: 375 | K16: 384 | L16: 384 | M16: 375 | N16: 375 | O16: 420 | P16: 420 | Q16: 420 | R16: 420 | S16: 420 | T16: 420 | U16: 429 | V16: 410 | W16: 383 | X16: 383 | Y16: 395 | Z16: 393 | AA16: 365 | AB16: 390
C17: dodijeljeni kap. | E17: 297 | F17: 297 | G17: 297 | H17: 297 | I17: 297 | J17: 297 | K17: 302 | L17: 302 | M17: 313 | N17: 322 | O17: 322 | P17: 322 | Q17: 322 | R17: 322 | S17: 322 | T17: 322 | U17: 322 | V17: 261 | W17: 167 | X17: 89 | Y17: 89 | Z17: 87 | AA17: 209 | AB17: 286
C18: cijena [€/MW] | E18: 0.06 | F18: 0.06 | G18: 0.06 | H18: 0.06 | I18: 0.06 | J18: 0.06 | K18: 0.06 | L18: 0.06 | M18: 0.06 | N18: 0.04 | O18: 0.06 | P18: 0.06 | Q18: 0.06 | R18: 0.06 | S18: 0.06 | T18: 0.06 | U18: 0.07 | V18: 0.17 | W18: 2.45 | X18: 11.33 | Y18: 20.4 | Z18: 11.33 | AA18: 0.28 | AB18: 0.13
B20: smjer | C20: RS->ME
D21: sat | E21: 1 | F21: 2 | G21: 3 | H21: 4 | I21: 5 | J21: 6 | K21: 7 | L21: 8 | M21: 9 | N21: 10 | O21: 11 | P21: 12 | Q21: 13 | R21: 14 | S21: 15 | T21: 16 | U21: 17 | V21: 18 | W21: 19 | X21: 20 | Y21: 21 | Z21: 22 | AA21: 23 | AB21: 24
C22: ATC | E22: 103 | F22: 103 | G22: 103 | H22: 103 | I22: 103 | J22: 103 | K22: 98 | L22: 98 | M22: 87 | N22: 78 | O22: 78 | P22: 78 | Q22: 78 | R22: 78 | S22: 78 | T22: 78 | U22: 78 | V22: 139 | W22: 233 | X22: 311 | Y22: 311 | Z22: 313 | AA22: 191 | AB22: 114
C23: zahtijevani kap. | E23: 456 | F23: 444 | G23: 440 | H23: 440 | I23: 443 | J23: 443 | K23: 441 | L23: 449 | M23: 474 | N23: 509 | O23: 511 | P23: 505 | Q23: 485 | R23: 485 | S23: 485 | T23: 491 | U23: 457 | V23: 466 | W23: 467 | X23: 463 | Y23: 455 | Z23: 485 | AA23: 483 | AB23: 448
C24: dodijeljeni kap. | E24: 103 | F24: 103 | G24: 103 | H24: 103 | I24: 103 | J24: 103 | K24: 98 | L24: 98 | M24: 87 | N24: 78 | O24: 78 | P24: 78 | Q24: 78 | R24: 78 | S24: 78 | T24: 78 | U24: 78 | V24: 139 | W24: 233 | X24: 311 | Y24: 311 | Z24: 313 | AA24: 191 | AB24: 114
C25: cijena [€/MW] | E25: 8.4 | F25: 8.68 | G25: 9.1 | H25: 9.62 | I25: 9.03 | J25: 6.86 | K25: 7.44 | L25: 8.62 | M25: 16 | N25: 30.64 | O25: 33.33 | P25: 31.12 | Q25: 26.32 | R25: 20.81 | S25: 25 | T25: 28 | U25: 5.46 | V25: 1.11 | W25: 0.44 | X25: 0.22 | Y25: 0.22 | Z25: 0.19 | AA25: 0.44 | AB25: 1.28

Sheet 27.07.
A10: Aukcija za dan | C10: 45865
B13: smjer | C13: ME->RS
D14: sat | E14: 1 | F14: 2 | G14: 3 | H14: 4 | I14: 5 | J14: 6 | K14: 7 | L14: 8 | M14: 9 | N14: 10 | O14: 11 | P14: 12 | Q14: 13 | R14: 14 | S14: 15 | T14: 16 | U14: 17 | V14: 18 | W14: 19 | X14: 20 | Y14: 21 | Z14: 22 | AA14: 23 | AB14: 24
C15: ATC | E15: 282 | F15: 272 | G15: 272 | H15: 272 | I15: 272 | J15: 272 | K15: 277 | L15: 277 | M15: 287 | N15: 287 | O15: 269 | P15: 269 | Q15: 269 | R15: 269 | S15: 269 | T15: 269 | U15: 287 | V15: 262 | W15: 176 | X15: 129 | Y15: 129 | Z15: 127 | AA15: 214 | AB15: 265
C16: zahtijevani kap. | E16: 265 | F16: 265 | G16: 265 | H16: 265 | I16: 265 | J16: 265 | K16: 274 | L16: 274 | M16: 265 | N16: 265 | O16: 265 | P16: 265 | Q16: 265 | R16: 265 | S16: 265 | T16: 265 | U16: 269 | V16: 310 | W16: 320 | X16: 320 | Y16: 322 | Z16: 320 | AA16: 270 | AB16: 275
C17: dodijeljeni kap. | E17: 265 | F17: 265 | G17: 265 | H17: 265 | I17: 265 | J17: 265 | K17: 274 | L17: 274 | M17: 265 | N17: 265 | O17: 265 | P17: 265 | Q17: 265 | R17: 265 | S17: 265 | T17: 265 | U17: 269 | V17: 262 | W17: 176 | X17: 129 | Y17: 129 | Z17: 127 | AA17: 214 | AB17: 265
C18: cijena [€/MW] | E18: 0 | F18: 0 | G18: 0 | H18: 0 | I18: 0 | J18: 0 | K18: 0 | L18: 0 | M18: 0 | N18: 0 | O18: 0 | P18: 0 | Q18: 0 | R18: 0 | S18: 0 | T18: 0 | U18: 0 | V18: 0.07 | W18: 1.69 | X18: 6.99 | Y18: 6.99 | Z18: 6.99 | AA18: 0.06 | AB18: 0.01
B20: smjer | C20: RS->ME
D21: sat | E21: 1 | F21: 2 | G21: 3 | H21: 4 | I21: 5 | J21: 6 | K21: 7 | L21: 8 | M21: 9 | N21: 10 | O21: 11 | P21: 12 | Q21: 13 | R21: 14 | S21: 15 | T21: 16 | U21: 17 | V21: 18 | W21: 19 | X21: 20 | Y21: 21 | Z21: 22 | AA21: 23 | AB21: 24
C22: ATC | E22: 118 | F22: 128 | G22: 128 | H22: 128 | I22: 128 | J22: 128 | K22: 123 | L22: 123 | M22: 113 | N22: 113 | O22: 131 | P22: 131 | Q22: 131 | R22: 131 | S22: 131 | T22: 131 | U22: 113 | V22: 138 | W22: 224 | X22: 271 | Y22: 271 | Z22: 273 | AA22: 186 | AB22: 135
C23: zahtijevani kap. | E23: 353 | F23: 366 | G23: 364 | H23: 339 | I23: 340 | J23: 340 | K23: 364 | L23: 398 | M23: 417 | N23: 434 | O23: 385 | P23: 396 | Q23: 382 | R23: 375 | S23: 376 | T23: 373 | U23: 434 | V23: 382 | W23: 323 | X23: 322 | Y23: 339 | Z23: 334 | AA23: 384 | AB23: 379
C24: dodijeljeni kap. | E24: 118 | F24: 128 | G24: 128 | H24: 128 | I24: 128 | J24: 128 | K24: 123 | L24: 123 | M24: 113 | N24: 113 | O24: 131 | P24: 131 | Q24: 131 | R24: 131 | S24: 131 | T24: 131 | U24: 113 | V24: 138 | W24: 224 | X24: 271 | Y24: 271 | Z24: 273 | AA24: 186 | AB24: 135
C25: cijena [€/MW] | E25: 3.4 | F25: 2.23 | G25: 2.51 | H25: 2.27 | I25: 4.66 | J25: 3.76 | K25: 6.55 | L25: 9 | M25: 16.24 | N25: 23 | O25: 23 | P25: 23 | Q25: 23 | R25: 23 | S25: 23 | T25: 23 | U25: 11.11 | V25: 1.39 | W25: 0.13 | X25: 0.1 | Y25: 0.13 | Z25: 0.13 | AA25: 0.55 | AB25: 1.6

Sheet 28.07.
A10: Aukcija za dan | C10: 45866
B13: smjer | C13: ME->RS
D14: sat | E14: 1 | F14: 2 | G14: 3 | H14: 4 | I14: 5 | J14: 6 | K14: 7 | L14: 8 | M14: 9 | N14: 10 | O14: 11 | P14: 12 | Q14: 13 | R14: 14 | S14: 15 | T14: 16 | U14: 17 | V14: 18 | W14: 19 | X14: 20 | Y14: 21 | Z14: 22 | AA14: 23 | AB14: 24
C15: ATC | E15: 312 | F15: 302 | G15: 302 | H15: 302 | I15: 302 | J15: 302 | K15: 302 | L15: 302 | M15: 335 | N15: 335 | O15: 335 | P15: 335 | Q15: 335 | R15: 335 | S15: 335 | T15: 335 | U15: 335 | V15: 205 | W15: 100 | X15: 100 | Y15: 100 | Z15: 100 | AA15: 178 | AB15: 267
C16: zahtijevani kap. | E16: 270 | F16: 270 | G16: 270 | H16: 270 | I16: 270 | J16: 270 | K16: 279 | L16: 279 | M16: 270 | N16: 270 | O16: 270 | P16: 273 | Q16: 278 | R16: 277 | S16: 276 | T16: 275 | U16: 329 | V16: 310 | W16: 360 | X16: 360 | Y16: 362 | Z16: 320 | AA16: 330 | AB16: 330
C17: dodijeljeni kap. | E17: 270 | F17: 270 | G17: 270 | H17: 270 | I17: 270 | J17: 270 | K17: 279 | L17: 279 | M17: 270 | N17: 270 | O17: 270 | P17: 273 | Q17: 278 | R17: 277 | S17: 276 | T17: 275 | U17: 329 | V17: 205 | W17: 100 | X17: 100 | Y17: 100 | Z17: 100 | AA17: 178 | AB17: 267
C18: cijena [€/MW] | E18: 0 | F18: 0 | G18: 0 | H18: 0 | I18: 0 | J18: 0 | K18: 0 | L18: 0 | M18: 0 | N18: 0 | O18: 0 | P18: 0 | Q18: 0 | R18: 0 | S18: 0 | T18: 0 | U18: 0 | V18: 0.59 | W18: 17.7 | X18: 23.67 | Y18: 27.64 | Z18: 12.11 | AA18: 1.5 | AB18: 0.13
B20: smjer | C20: RS->ME
D21: sat | E21: 1 | F21: 2 | G21: 3 | H21: 4 | I21: 5 | J21: 6 | K21: 7 | L21: 8 | M21: 9 | N21: 10 | O21: 11 | P21: 12 | Q21: 13 | R21: 14 | S21: 15 | T21: 16 | U21: 17 | V21: 18 | W21: 19 | X21: 20 | Y21: 21 | Z21: 22 | AA21: 23 | AB21: 24
C22: ATC | E22: 88 | F22: 98 | G22: 98 | H22: 98 | I22: 98 | J22: 98 | K22: 98 | L22: 98 | M22: 65 | N22: 65 | O22: 65 | P22: 65 | Q22: 65 | R22: 65 | S22: 65 | T22: 65 | U22: 65 | V22: 195 | W22: 300 | X22: 300 | Y22: 300 | Z22: 300 | AA22: 222 | AB22: 133
C23: zahtijevani kap. | E23: 374 | F23: 419 | G23: 409 | H23: 363 | I23: 368 | J23: 369 | K23: 411 | L23: 420 | M23: 430 | N23: 439 | O23: 424 | P23: 405 | Q23: 415 | R23: 417 | S23: 415 | T23: 420 | U23: 412 | V23: 455 | W23: 352 | X23: 346 | Y23: 360 | Z23: 357 | AA23: 387 | AB23: 383
C24: dodijeljeni kap. | E24: 88 | F24: 98 | G24: 98 | H24: 98 | I24: 98 | J24: 98 | K24: 98 | L24: 98 | M24: 65 | N24: 65 | O24: 65 | P24: 65 | Q24: 65 | R24: 65 | S24: 65 | T24: 65 | U24: 65 | V24: 195 | W24: 300 | X24: 300 | Y24: 300 | Z24: 300 | AA24: 222 | AB24: 133
C25: cijena [€/MW] | E25: 17.91 | F25: 18.36 | G25: 15 | H25: 15 | I25: 11.16 | J25: 8.55 | K25: 2.25 | L25: 4.1 | M25: 100 | N25: 100 | O25: 100 | P25: 40 | Q25: 100 | R25: 100 | S25: 100 | T25: 100 | U25: 100 | V25: 1.21 | W25: 0.1 | X25: 0.09 | Y25: 0.1 | Z25: 0.1 | AA25: 0.31 | AB25: 1.21

Sheet 29.07.
A10: Aukcija za dan | C10: 45867
B13: smjer | C13: ME->RS
D14: sat | E14: 1 | F14: 2 | G14: 3 | H14: 4 | I14: 5 | J14: 6 | K14: 7 | L14: 8 | M14: 9 | N14: 10 | O14: 11 | P14: 12 | Q14: 13 | R14: 14 | S14: 15 | T14: 16 | U14: 17 | V14: 18 | W14: 19 | X14: 20 | Y14: 21 | Z14: 22 | AA14: 23 | AB14: 24
C15: ATC | E15: 325 | F15: 315 | G15: 315 | H15: 315 | I15: 315 | J15: 315 | K15: 315 | L15: 325 | M15: 325 | N15: 335 | O15: 335 | P15: 335 | Q15: 335 | R15: 335 | S15: 335 | T15: 335 | U15: 335 | V15: 266 | W15: 105 | X15: 105 | Y15: 105 | Z15: 214 | AA15: 236 | AB15: 299
C16: zahtijevani kap. | E16: 390 | F16: 390 | G16: 390 | H16: 390 | I16: 390 | J16: 390 | K16: 399 | L16: 399 | M16: 390 | N16: 390 | O16: 390 | P16: 405 | Q16: 405 | R16: 405 | S16: 405 | T16: 431 | U16: 421 | V16: 395 | W16: 415 | X16: 415 | Y16: 415 | Z16: 415 | AA16: 395 | AB16: 420
C17: dodijeljeni kap. | E17: 325 | F17: 315 | G17: 315 | H17: 315 | I17: 315 | J17: 315 | K17: 315 | L17: 325 | M17: 325 | N17: 335 | O17: 335 | P17: 335 | Q17: 335 | R17: 335 | S17: 335 | T17: 335 | U17: 335 | V17: 266 | W17: 105 | X17: 105 | Y17: 105 | Z17: 214 | AA17: 236 | AB17: 299
C18: cijena [€/MW] | E18: 0.06 | F18: 0.06 | G18: 0.06 | H18: 0.06 | I18: 0.06 | J18: 0.06 | K18: 0.06 | L18: 0.06 | M18: 0.06 | N18: 0.04 | O18: 0.04 | P18: 0.06 | Q18: 0.06 | R18: 0.06 | S18: 0.06 | T18: 0.11 | U18: 0.06 | V18: 0.12 | W18: 6.99 | X18: 10.93 | Y18: 9.84 | Z18: 1.82 | AA18: 0.13 | AB18: 0.07
B20: smjer | C20: RS->ME
D21: sat | E21: 1 | F21: 2 | G21: 3 | H21: 4 | I21: 5 | J21: 6 | K21: 7 | L21: 8 | M21: 9 | N21: 10 | O21: 11 | P21: 12 | Q21: 13 | R21: 14 | S21: 15 | T21: 16 | U21: 17 | V21: 18 | W21: 19 | X21: 20 | Y21: 21 | Z21: 22 | AA21: 23 | AB21: 24
C22: ATC | E22: 75 | F22: 85 | G22: 85 | H22: 85 | I22: 85 | J22: 85 | K22: 85 | L22: 75 | M22: 75 | N22: 65 | O22: 65 | P22: 65 | Q22: 65 | R22: 65 | S22: 65 | T22: 65 | U22: 65 | V22: 134 | W22: 295 | X22: 295 | Y22: 295 | Z22: 186 | AA22: 164 | AB22: 101
C23: zahtijevani kap. | E23: 451 | F23: 447 | G23: 446 | H23: 445 | I23: 445 | J23: 445 | K23: 426 | L23: 439 | M23: 464 | N23: 478 | O23: 475 | P23: 496 | Q23: 475 | R23: 477 | S23: 477 | T23: 468 | U23: 477 | V23: 487 | W23: 473 | X23: 464 | Y23: 467 | Z23: 457 | AA23: 442 | AB23: 437
C24: dodijeljeni kap. | E24: 75 | F24: 85 | G24: 85 | H24: 85 | I24: 85 | J24: 85 | K24: 85 | L24: 75 | M24: 75 | N24: 65 | O24: 65 | P24: 65 | Q24: 65 | R24: 65 | S24: 65 | T24: 65 | U24: 65 | V24: 134 | W24: 295 | X24: 295 | Y24: 295 | Z24: 186 | AA24: 164 | AB24: 101
C25: cijena [€/MW] | E25: 7.73 | F25: 4.75 | G25: 4.88 | H25: 3.67 | I25: 2.25 | J25: 1.99 | K25: 3.16 | L25: 6.83 | M25: 9.78 | N25: 40 | O25: 40 | P25: 40 | Q25: 40 | R25: 40 | S25: 40 | T25: 27.94 | U25: 25.49 | V25: 1.55 | W25: 0.31 | X25: 0.26 | Y25: 0.26 | Z25: 1 | AA25: 1.23 | AB25: 2.61

Sheet 30.07.
A10: Aukcija za dan | C10: 45868
B13: smjer | C13: ME->RS
D14: sat | E14: 1 | F14: 2 | G14: 3 | H14: 4 | I14: 5 | J14: 6 | K14: 7 | L14: 8 | M14: 9 | N14: 10 | O14: 11 | P14: 12 | Q14: 13 | R14: 14 | S14: 15 | T14: 16 | U14: 17 | V14: 18 | W14: 19 | X14: 20 | Y14: 21 | Z14: 22 | AA14: 23 | AB14: 24
C15: ATC | E15: 325 | F15: 325 | G15: 325 | H15: 325 | I15: 325 | J15: 325 | K15: 325 | L15: 325 | M15: 320 | N15: 330 | O15: 330 | P15: 330 | Q15: 330 | R15: 330 | S15: 330 | T15: 322 | U15: 312 | V15: 211 | W15: 121 | X15: 118 | Y15: 118 | Z15: 118 | AA15: 162 | AB15: 272
C16: zahtijevani kap. | E16: 395 | F16: 395 | G16: 395 | H16: 395 | I16: 395 | J16: 395 | K16: 404 | L16: 404 | M16: 395 | N16: 395 | O16: 395 | P16: 395 | Q16: 395 | R16: 395 | S16: 395 | T16: 421 | U16: 421 | V16: 395 | W16: 430 | X16: 430 | Y16: 430 | Z16: 430 | AA16: 395 | AB16: 420
C17: dodijeljeni kap. | E17: 325 | F17: 325 | G17: 325 | H17: 325 | I17: 325 | J17: 325 | K17: 325 | L17: 325 | M17: 320 | N17: 330 | O17: 330 | P17: 330 | Q17: 330 | R17: 330 | S17: 330 | T17: 322 | U17: 312 | V17: 211 | W17: 121 | X17: 118 | Y17: 118 | Z17: 118 | AA17: 162 | AB17: 272
C18: cijena [€/MW] | E18: 0.06 | F18: 0.06 | G18: 0.06 | H18: 0.06 | I18: 0.06 | J18: 0.06 | K18: 0.06 | L18: 0.06 | M18: 0.06 | N18: 0.06 | O18: 0.06 | P18: 0.06 | Q18: 0.06 | R18: 0.06 | S18: 0.06 | T18: 0.07 | U18: 0.07 | V18: 0.15 | W18: 6.99 | X18: 7.5 | Y18: 8.1 | Z18: 10.1 | AA18: 0.69 | AB18: 0.11
B20: smjer | C20: RS->ME
D21: sat | E21: 1 | F21: 2 | G21: 3 | H21: 4 | I21: 5 | J21: 6 | K21: 7 | L21: 8 | M21: 9 | N21: 10 | O21: 11 | P21: 12 | Q21: 13 | R21: 14 | S21: 15 | T21: 16 | U21: 17 | V21: 18 | W21: 19 | X21: 20 | Y21: 21 | Z21: 22 | AA21: 23 | AB21: 24
C22: ATC | E22: 75 | F22: 75 | G22: 75 | H22: 75 | I22: 75 | J22: 75 | K22: 75 | L22: 75 | M22: 80 | N22: 70 | O22: 70 | P22: 70 | Q22: 70 | R22: 70 | S22: 70 | T22: 78 | U22: 88 | V22: 189 | W22: 279 | X22: 282 | Y22: 282 | Z22: 282 | AA22: 238 | AB22: 128
C23: zahtijevani kap. | E23: 491 | F23: 489 | G23: 488 | H23: 487 | I23: 487 | J23: 464 | K23: 488 | L23: 492 | M23: 522 | N23: 529 | O23: 528 | P23: 528 | Q23: 528 | R23: 528 | S23: 528 | T23: 523 | U23: 503 | V23: 446 | W23: 464 | X23: 460 | Y23: 469 | Z23: 466 | AA23: 480 | AB23: 440
C24: dodijeljeni kap. | E24: 75 | F24: 75 | G24: 75 | H24: 75 | I24: 75 | J24: 75 | K24: 75 | L24: 75 | M24: 80 | N24: 70 | O24: 70 | P24: 70 | Q24: 70 | R24: 70 | S24: 70 | T24: 78 | U24: 88 | V24: 189 | W24: 279 | X24: 282 | Y24: 282 | Z24: 282 | AA24: 238 | AB24: 128
C25: cijena [€/MW] | E25: 11.04 | F25: 11.04 | G25: 12 | H25: 10.17 | I25: 8.28 | J25: 10.98 | K25: 11.46 | L25: 11.16 | M25: 20 | N25: 32.63 | O25: 35 | P25: 37.58 | Q25: 42.89 | R25: 41.5 | S25: 35 | T25: 24.53 | U25: 8 | V25: 0.78 | W25: 0.23 | X25: 0.22 | Y25: 0.22 | Z25: 0.22 | AA25: 0.48 | AB25: 1.21

Sheet 31.07.
A10: Aukcija za dan | C10: 45869
B13: smjer | C13: ME->RS
D14: sat | E14: 1 | F14: 2 | G14: 3 | H14: 4 | I14: 5 | J14: 6 | K14: 7 | L14: 8 | M14: 9 | N14: 10 | O14: 11 | P14: 12 | Q14: 13 | R14: 14 | S14: 15 | T14: 16 | U14: 17 | V14: 18 | W14: 19 | X14: 20 | Y14: 21 | Z14: 22 | AA14: 23 | AB14: 24
C15: ATC | E15: 322 | F15: 322 | G15: 322 | H15: 322 | I15: 322 | J15: 322 | K15: 322 | L15: 312 | M15: 311 | N15: 321 | O15: 321 | P15: 321 | Q15: 321 | R15: 321 | S15: 321 | T15: 321 | U15: 298 | V15: 240 | W15: 141 | X15: 85 | Y15: 85 | Z15: 85 | AA15: 159 | AB15: 293
C16: zahtijevani kap. | E16: 380 | F16: 380 | G16: 380 | H16: 380 | I16: 380 | J16: 380 | K16: 389 | L16: 389 | M16: 380 | N16: 380 | O16: 380 | P16: 380 | Q16: 380 | R16: 380 | S16: 380 | T16: 406 | U16: 406 | V16: 380 | W16: 380 | X16: 380 | Y16: 380 | Z16: 380 | AA16: 380 | AB16: 405
C17: dodijeljeni kap. | E17: 322 | F17: 322 | G17: 322 | H17: 322 | I17: 322 | J17: 322 | K17: 322 | L17: 312 | M17: 311 | N17: 321 | O17: 321 | P17: 321 | Q17: 321 | R17: 321 | S17: 321 | T17: 321 | U17: 298 | V17: 240 | W17: 141 | X17: 85 | Y17: 85 | Z17: 85 | AA17: 159 | AB17: 293
C18: cijena [€/MW] | E18: 0.06 | F18: 0.06 | G18: 0.06 | H18: 0.06 | I18: 0.06 | J18: 0.06 | K18: 0.06 | L18: 0.06 | M18: 0.06 | N18: 0.06 | O18: 0.06 | P18: 0.06 | Q18: 0.06 | R18: 0.06 | S18: 0.06 | T18: 0.07 | U18: 0.07 | V18: 0.13 | W18: 4 | X18: 12.22 | Y18: 10.99 | Z18: 8.5 | AA18: 1.33 | AB18: 0.11
B20: smjer | C20: RS->ME
D21: sat | E21: 1 | F21: 2 | G21: 3 | H21: 4 | I21: 5 | J21: 6 | K21: 7 | L21: 8 | M21: 9 | N21: 10 | O21: 11 | P21: 12 | Q21: 13 | R21: 14 | S21: 15 | T21: 16 | U21: 17 | V21: 18 | W21: 19 | X21: 20 | Y21: 21 | Z21: 22 | AA21: 23 | AB21: 24
C22: ATC | E22: 78 | F22: 78 | G22: 78 | H22: 78 | I22: 78 | J22: 78 | K22: 78 | L22: 88 | M22: 89 | N22: 79 | O22: 79 | P22: 79 | Q22: 79 | R22: 79 | S22: 79 | T22: 79 | U22: 102 | V22: 160 | W22: 259 | X22: 315 | Y22: 315 | Z22: 315 | AA22: 241 | AB22: 107
C23: zahtijevani kap. | E23: 492 | F23: 490 | G23: 487 | H23: 487 | I23: 487 | J23: 487 | K23: 488 | L23: 493 | M23: 501 | N23: 505 | O23: 516 | P23: 516 | Q23: 516 | R23: 512 | S23: 514 | T23: 515 | U23: 480 | V23: 429 | W23: 449 | X23: 449 | Y23: 458 | Z23: 460 | AA23: 473 | AB23: 479
C24: dodijeljeni kap. | E24: 78 | F24: 78 | G24: 78 | H24: 78 | I24: 78 | J24: 78 | K24: 78 | L24: 88 | M24: 89 | N24: 79 | O24: 79 | P24: 79 | Q24: 79 | R24: 79 | S24: 79 | T24: 79 | U24: 102 | V24: 160 | W24: 259 | X24: 315 | Y24: 315 | Z24: 315 | AA24: 241 | AB24: 107
C25: cijena [€/MW] | E25: 13.7 | F25: 13.02 | G25: 18.62 | H25: 13.14 | I25: 12.52 | J25: 9.45 | K25: 20.96 | L25: 24.13 | M25: 31.16 | N25: 34.93 | O25: 35.2 | P25: 35.74 | Q25: 36.52 | R25: 44.24 | S25: 48.14 | T25: 45 | U25: 16.8 | V25: 2 | W25: 0.48 | X25: 0.18 | Y25: 0.18 | Z25: 0.18 | AA25: 1.21 | AB25: 5.55
